BEGIN:VCALENDAR
VERSION:2.0
PRODID:-//Black Country Wood Turners - ECPv6.15.12.2//NONSGML v1.0//EN
CALSCALE:GREGORIAN
METHOD:PUBLISH
X-ORIGINAL-URL:http://blackcountrywoodturners.org.uk
X-WR-CALDESC:Events for Black Country Wood Turners
REFRESH-INTERVAL;VALUE=DURATION:PT1H
X-Robots-Tag:noindex
X-PUBLISHED-TTL:PT1H
BEGIN:VTIMEZONE
TZID:Europe/London
BEGIN:DAYLIGHT
TZOFFSETFROM:+0000
TZOFFSETTO:+0100
TZNAME:BST
DTSTART:20210328T010000
END:DAYLIGHT
BEGIN:STANDARD
TZOFFSETFROM:+0100
TZOFFSETTO:+0000
TZNAME:GMT
DTSTART:20211031T010000
END:STANDARD
BEGIN:DAYLIGHT
TZOFFSETFROM:+0000
TZOFFSETTO:+0100
TZNAME:BST
DTSTART:20220327T010000
END:DAYLIGHT
BEGIN:STANDARD
TZOFFSETFROM:+0100
TZOFFSETTO:+0000
TZNAME:GMT
DTSTART:20221030T010000
END:STANDARD
BEGIN:DAYLIGHT
TZOFFSETFROM:+0000
TZOFFSETTO:+0100
TZNAME:BST
DTSTART:20230326T010000
END:DAYLIGHT
BEGIN:STANDARD
TZOFFSETFROM:+0100
TZOFFSETTO:+0000
TZNAME:GMT
DTSTART:20231029T010000
END:STANDARD
BEGIN:DAYLIGHT
TZOFFSETFROM:+0000
TZOFFSETTO:+0100
TZNAME:BST
DTSTART:20240331T010000
END:DAYLIGHT
BEGIN:STANDARD
TZOFFSETFROM:+0100
TZOFFSETTO:+0000
TZNAME:GMT
DTSTART:20241027T010000
END:STANDARD
BEGIN:DAYLIGHT
TZOFFSETFROM:+0000
TZOFFSETTO:+0100
TZNAME:BST
DTSTART:20250330T010000
END:DAYLIGHT
BEGIN:STANDARD
TZOFFSETFROM:+0100
TZOFFSETTO:+0000
TZNAME:GMT
DTSTART:20251026T010000
END:STANDARD
BEGIN:DAYLIGHT
TZOFFSETFROM:+0000
TZOFFSETTO:+0100
TZNAME:BST
DTSTART:20260329T010000
END:DAYLIGHT
BEGIN:STANDARD
TZOFFSETFROM:+0100
TZOFFSETTO:+0000
TZNAME:GMT
DTSTART:20261025T010000
END:STANDARD
BEGIN:DAYLIGHT
TZOFFSETFROM:+0000
TZOFFSETTO:+0100
TZNAME:BST
DTSTART:20270328T010000
END:DAYLIGHT
BEGIN:STANDARD
TZOFFSETFROM:+0100
TZOFFSETTO:+0000
TZNAME:GMT
DTSTART:20271031T010000
END:STANDARD
END:VTIMEZONE
BEGIN:VEVENT
DTSTART;TZID=Europe/London:20260328T100000
DTEND;TZID=Europe/London:20260328T140000
DTSTAMP:20260421T080648
CREATED:20260303T185622Z
LAST-MODIFIED:20260303T190045Z
UID:13117-1774692000-1774706400@blackcountrywoodturners.org.uk
SUMMARY:Mary Stevens Hospice - Easter Fayre and Coffee Morning
DESCRIPTION:
URL:http://blackcountrywoodturners.org.uk/event/mary-stevens-easter-fayre-and-coffee-morning/
LOCATION:Mary Stevens Hospice\, Stourbridge\, 221 Hagley Rd\, Stourbridge\, DY8 2JR\, United Kingdom
CATEGORIES:Charity Event
ATTACH;FMTTYPE=image/png:http://blackcountrywoodturners.org.uk/wp-content/uploads//2026/03/MSH.png
END:VEVENT
BEGIN:VEVENT
DTSTART;TZID=Europe/London:20251129T100000
DTEND;TZID=Europe/London:20251129T140000
DTSTAMP:20260421T080648
CREATED:20241119T191859Z
LAST-MODIFIED:20241119T191859Z
UID:11491-1764410400-1764424800@blackcountrywoodturners.org.uk
SUMMARY:Charity Event - Mary Stevens Christmas Coffee Morning & Jigsaw Festival ***Date to be confirmed***
DESCRIPTION:The club will be attending the Mary Stevens Christmas Coffee Morning & Jigsaw Festival\, again this year. \n***Date to be confirmed***
URL:http://blackcountrywoodturners.org.uk/event/charity-event-mary-stevens-christmas-coffee-morning-jigsaw-festival-date-to-be-confirmed/
CATEGORIES:Charity Event
END:VEVENT
BEGIN:VEVENT
DTSTART;TZID=Europe/London:20250831T090000
DTEND;TZID=Europe/London:20250831T170000
DTSTAMP:20260421T080648
CREATED:20241119T184320Z
LAST-MODIFIED:20241119T185706Z
UID:11478-1756630800-1756659600@blackcountrywoodturners.org.uk
SUMMARY:Charity Event - Mary Stevens Hospice - Summer Fayre  *** Date to be confirmed ***
DESCRIPTION:The club will  be attending Mary Stevens Hospice’s Summer Favre again this year \nDate to be confirmed
URL:http://blackcountrywoodturners.org.uk/event/charity-event-mary-stevens-hospice-summer-fayre/
CATEGORIES:Charity Event
END:VEVENT
BEGIN:VEVENT
DTSTART;TZID=Europe/London:20250816T100000
DTEND;TZID=Europe/London:20250816T160000
DTSTAMP:20260421T080648
CREATED:20241119T175823Z
LAST-MODIFIED:20241119T175823Z
UID:11459-1755338400-1755360000@blackcountrywoodturners.org.uk
SUMMARY:Charity Event - Sedgley Garden Club Flower Show
DESCRIPTION:We will have our own room at the event (Community Halls\, behind Asda Sedgley) for use to promote the club\, sell any items you want to bring along\, the event formally opens at 12:00 and finishes at 3PM\, but the club will arrive around 10:am to get everything set
URL:http://blackcountrywoodturners.org.uk/event/charity-event-sedgley-garden-club-flower-show/
LOCATION:Sedgley Garden Club\, Ladies Walk\, Sedgley\, DY3 3UA\, United Kingdom
CATEGORIES:Charity Event
END:VEVENT
BEGIN:VEVENT
DTSTART;TZID=Europe/London:20250505T100000
DTEND;TZID=Europe/London:20250505T160000
DTSTAMP:20260421T080648
CREATED:20250305T133731Z
LAST-MODIFIED:20250305T133731Z
UID:11875-1746439200-1746460800@blackcountrywoodturners.org.uk
SUMMARY:The Birmingham Botanical Gardens Craft Fayre
DESCRIPTION:On May Bank holiday Monday\, the club has exclusive use of the Botanical Garden’s new event tent area\, we will have a display table of members work\, the charity table\, member’s sales table\, and also members friends and family selling other crafts.
URL:http://blackcountrywoodturners.org.uk/event/the-birmingham-botanical-gardens-craft-fayre/
LOCATION:Birmingham Botanical Gardens\, Westbourne Road\, Birmingham\, B15 3TR\, United Kingdom
CATEGORIES:Charity Event,Crafts Fair,Public Fair
END:VEVENT
BEGIN:VEVENT
DTSTART;TZID=Europe/London:20250412T100000
DTEND;TZID=Europe/London:20250412T160000
DTSTAMP:20260421T080648
CREATED:20241119T190221Z
LAST-MODIFIED:20250305T132220Z
UID:11485-1744452000-1744473600@blackcountrywoodturners.org.uk
SUMMARY:Charity Event - Mary Stevens Hospice Easter Coffee Morning
DESCRIPTION:The club will be attending the Mary Stevens Hospice Easter Coffee Morning\, again this year.
URL:http://blackcountrywoodturners.org.uk/event/mary-stevens-hospice-easter-coffee-morning-date-to-be-confirmed/
CATEGORIES:Charity Event
END:VEVENT
BEGIN:VEVENT
DTSTART;VALUE=DATE:20241219
DTEND;VALUE=DATE:20241220
DTSTAMP:20260421T080648
CREATED:20241118T185427Z
LAST-MODIFIED:20241118T200246Z
UID:11355-1734566400-1734652799@blackcountrywoodturners.org.uk
SUMMARY:Mary Stevens Hospice – Demonstration at the Mary Stevens Day Services Unit
DESCRIPTION:This will be a private event for Mary Stevens Hospice.
URL:http://blackcountrywoodturners.org.uk/event/mary-stevens-hospice-demonstration-at-the-mary-stevens-day-services-unit-2/
CATEGORIES:Charity Event
END:VEVENT
BEGIN:VEVENT
DTSTART;TZID=Europe/London:20241130T100000
DTEND;TZID=Europe/London:20241130T140000
DTSTAMP:20260421T080648
CREATED:20241119T191622Z
LAST-MODIFIED:20241119T191911Z
UID:11489-1732960800-1732975200@blackcountrywoodturners.org.uk
SUMMARY:Charity Event - Mary Stevens Christmas Coffee Morning & Jigsaw Festival
DESCRIPTION:The club will be attending the Mary Stevens Christmas Coffee Morning & Jigsaw Festival\, again this year.
URL:http://blackcountrywoodturners.org.uk/event/charity-event-mary-stevens-christmas-coffee-morning-jigsaw-festival/
CATEGORIES:Charity Event
END:VEVENT
BEGIN:VEVENT
DTSTART;TZID=Europe/London:20240831T110000
DTEND;TZID=Europe/London:20240831T163000
DTSTAMP:20260421T080648
CREATED:20240705T000359Z
LAST-MODIFIED:20240705T000359Z
UID:9308-1725102000-1725121800@blackcountrywoodturners.org.uk
SUMMARY:Mary Stevens Hospice - Beside the Seaside - Summer Fayre
DESCRIPTION:Mary Stevens Hospice\n\nBeside the Seaside Summer Fayre\n\nOh we do like to be beside the seaside… join us in the grounds of the Hospice in true British Summer Holiday style! \n\n\nThe Mary Stevens Hospice\n221 Hagley Road\nStourbridge\, West Midlands DY8 2JR United Kingdom
URL:http://blackcountrywoodturners.org.uk/event/mary-stevens-hospice-beside-the-seaside-summer-fayre/
CATEGORIES:Charity Event,Crafts Fair,Public Fair
END:VEVENT
BEGIN:VEVENT
DTSTART;TZID=Europe/London:20240817T100000
DTEND;TZID=Europe/London:20240817T160000
DTSTAMP:20260421T080648
CREATED:20231219T174914Z
LAST-MODIFIED:20231219T174914Z
UID:8747-1723888800-1723910400@blackcountrywoodturners.org.uk
SUMMARY:Sedgley Garden Club Flower Show 09/24
DESCRIPTION:We will have our own room at the event (Community Halls\, behind Asda Sedgley) for use to promote the club\, sell any items you want to bring along and also lathe demonstrations for the public\, the event formally opens at 12:00 and finishes at 3PM\, but the club will arrive around 10:am to get everything set up.
URL:http://blackcountrywoodturners.org.uk/event/sedgley-garden-club-flower-show-09-24/
LOCATION:Sedgley Garden Club\, Ladies Walk\, Sedgley\, DY3 3UA\, United Kingdom
CATEGORIES:Charity Event
END:VEVENT
BEGIN:VEVENT
DTSTART;TZID=Europe/London:20240323T100000
DTEND;TZID=Europe/London:20240323T160000
DTSTAMP:20260421T080648
CREATED:20240123T002123Z
LAST-MODIFIED:20240123T002123Z
UID:8839-1711188000-1711209600@blackcountrywoodturners.org.uk
SUMMARY:Mary Stevens Hospice Easter Coffee Morning
DESCRIPTION:The club will be attending the Mary Stevens Hospice Easter Coffee Morning\, again this year.
URL:http://blackcountrywoodturners.org.uk/event/mary-stevens-hospice-easter-coffee-morning/
CATEGORIES:Charity Event,Crafts Fair
END:VEVENT
BEGIN:VEVENT
DTSTART;TZID=Europe/London:20231202T100000
DTEND;TZID=Europe/London:20231202T160000
DTSTAMP:20260421T080648
CREATED:20231030T131658Z
LAST-MODIFIED:20231030T131658Z
UID:8430-1701511200-1701532800@blackcountrywoodturners.org.uk
SUMMARY:Mary Stevens Hospice Christmas Coffee Morning
DESCRIPTION:The club will be attending the Mary Stevens Hospice Christmas Coffee Morning\, again this year.
URL:http://blackcountrywoodturners.org.uk/event/mary-stevens-hospice-christmas-coffee-morning/
CATEGORIES:Charity Event
END:VEVENT
BEGIN:VEVENT
DTSTART;TZID=Europe/London:20230902T120000
DTEND;TZID=Europe/London:20230902T170000
DTSTAMP:20260421T080648
CREATED:20230412T124245Z
LAST-MODIFIED:20230412T124245Z
UID:7296-1693656000-1693674000@blackcountrywoodturners.org.uk
SUMMARY:Mary Stevens Hospice - Summer Fayre
DESCRIPTION:BCWT has again been invited to this year`s\, Mary Stevens Hospice – Summer Fayre \non September 2 from 11:00 am – 4:00 pm but the club will be setting up from 9:30 am \nIt will take place at The Mary Stevens Hospice\, 221 Hagley Road\, Stourbridge\, West Midlands\, United Kingdom \nLast year’s event photos
URL:http://blackcountrywoodturners.org.uk/event/mary-stevens-hospice-summer-fayre-2/
CATEGORIES:Charity Event,Crafts Fair
END:VEVENT
BEGIN:VEVENT
DTSTART;TZID=Europe/London:20230819T110000
DTEND;TZID=Europe/London:20230819T160000
DTSTAMP:20260421T080648
CREATED:20230501T234738Z
LAST-MODIFIED:20230501T234738Z
UID:7417-1692442800-1692460800@blackcountrywoodturners.org.uk
SUMMARY:Sedgley Garden Club Flower Show
DESCRIPTION:Last year’s event 2022 \nWe will have our own room at the event (Community Halls\, behind Asda Sedgley) for use to promote the club\, sell any items you want to bring along and also lathe demonstrations for the public\, the event formally opens at 12:00 and finishes at 3PM\, but the club will arrive around 10:am to get everything set up.
URL:http://blackcountrywoodturners.org.uk/event/sedgley-garden-club-flower-show-2/
LOCATION:Sedgley Garden Club\, Ladies Walk\, Sedgley\, DY3 3UA\, United Kingdom
CATEGORIES:Charity Event,Crafts Fair
END:VEVENT
BEGIN:VEVENT
DTSTART;TZID=Europe/London:20230709T130000
DTEND;TZID=Europe/London:20230709T190000
DTSTAMP:20260421T080648
CREATED:20230414T161116Z
LAST-MODIFIED:20230414T165843Z
UID:7346-1688907600-1688929200@blackcountrywoodturners.org.uk
SUMMARY:Mary Stevens - Country Duck Race 2023
DESCRIPTION:Black Country Duck Race 2023\nWaterfront West\, Brierley Hill\, West Midlands\, United Kingdom \nJoin us for a day of Duck Racing\, entertainment\, stalls\, and good food\,…\n\n\nhttps://www.marystevenshospice.co.uk/event/black-country-duck-race-2023/
URL:http://blackcountrywoodturners.org.uk/event/mary-stevens-country-duck-race-2023/
LOCATION:Merry Hill Waterfront\, Merry Hill Waterfront West\, Brierley Hill\, West Midlands\, DY5 1LW\, United Kingdom
CATEGORIES:Charity Event,Crafts Fair
END:VEVENT
BEGIN:VEVENT
DTSTART;TZID=Europe/London:20220903T100000
DTEND;TZID=Europe/London:20220903T170000
DTSTAMP:20260421T080648
CREATED:20220510T142108Z
LAST-MODIFIED:20220831T203949Z
UID:2402-1662199200-1662224400@blackcountrywoodturners.org.uk
SUMMARY:Mary Stevens Summer Fayre
DESCRIPTION:This will be a longer event 9am to 4pm\, ( Summer Fayre opens to public about 10:30 through to 3pm approx\, exact times to be confirmed.) to help raise much needed funds we will have the usual charity table sales & members items and lathe demonstrations
URL:http://blackcountrywoodturners.org.uk/event/mary-stevens-summer-fayre/
CATEGORIES:Charity Event
END:VEVENT
END:VCALENDAR