BEGIN:VCALENDAR
VERSION:2.0
PRODID:-//Black Country Wood Turners - ECPv6.15.12.2//NONSGML v1.0//EN
CALSCALE:GREGORIAN
METHOD:PUBLISH
X-ORIGINAL-URL:http://blackcountrywoodturners.org.uk
X-WR-CALDESC:Events for Black Country Wood Turners
REFRESH-INTERVAL;VALUE=DURATION:PT1H
X-Robots-Tag:noindex
X-PUBLISHED-TTL:PT1H
BEGIN:VTIMEZONE
TZID:Europe/London
BEGIN:DAYLIGHT
TZOFFSETFROM:+0000
TZOFFSETTO:+0100
TZNAME:BST
DTSTART:20250330T010000
END:DAYLIGHT
BEGIN:STANDARD
TZOFFSETFROM:+0100
TZOFFSETTO:+0000
TZNAME:GMT
DTSTART:20251026T010000
END:STANDARD
BEGIN:DAYLIGHT
TZOFFSETFROM:+0000
TZOFFSETTO:+0100
TZNAME:BST
DTSTART:20260329T010000
END:DAYLIGHT
BEGIN:STANDARD
TZOFFSETFROM:+0100
TZOFFSETTO:+0000
TZNAME:GMT
DTSTART:20261025T010000
END:STANDARD
BEGIN:DAYLIGHT
TZOFFSETFROM:+0000
TZOFFSETTO:+0100
TZNAME:BST
DTSTART:20270328T010000
END:DAYLIGHT
BEGIN:STANDARD
TZOFFSETFROM:+0100
TZOFFSETTO:+0000
TZNAME:GMT
DTSTART:20271031T010000
END:STANDARD
END:VTIMEZONE
BEGIN:VEVENT
DTSTART;TZID=Europe/London:20260628T120000
DTEND;TZID=Europe/London:20260628T170000
DTSTAMP:20260421T062525
CREATED:20260303T190449Z
LAST-MODIFIED:20260303T190449Z
UID:13124-1782648000-1782666000@blackcountrywoodturners.org.uk
SUMMARY:Mary Stevens Hospice -Black Country Duck Race
DESCRIPTION:
URL:http://blackcountrywoodturners.org.uk/event/mary-stevens-hospice-black-country-duck-race/
LOCATION:Merry Hill Waterfront\, Merry Hill Waterfront West\, Brierley Hill\, West Midlands\, DY5 1LW\, United Kingdom
CATEGORIES:Charity Event
ATTACH;FMTTYPE=image/png:http://blackcountrywoodturners.org.uk/wp-content/uploads//2026/03/MSH.png
END:VEVENT
BEGIN:VEVENT
DTSTART;TZID=Europe/London:20260822T110000
DTEND;TZID=Europe/London:20260822T163000
DTSTAMP:20260421T062525
CREATED:20260303T190722Z
LAST-MODIFIED:20260303T190722Z
UID:13126-1787396400-1787416200@blackcountrywoodturners.org.uk
SUMMARY:Mary Stevens Hospice - Summer Fayre
DESCRIPTION:
URL:http://blackcountrywoodturners.org.uk/event/mary-stevens-hospice-summer-fayre/
LOCATION:Mary Stevens Hospice\, Stourbridge\, 221 Hagley Rd\, Stourbridge\, DY8 2JR\, United Kingdom
CATEGORIES:Charity Event
ATTACH;FMTTYPE=image/png:http://blackcountrywoodturners.org.uk/wp-content/uploads//2026/03/MSH.png
END:VEVENT
END:VCALENDAR