BEGIN:VCALENDAR
VERSION:2.0
PRODID:-//Black Country Wood Turners - ECPv6.15.12.2//NONSGML v1.0//EN
CALSCALE:GREGORIAN
METHOD:PUBLISH
X-ORIGINAL-URL:http://blackcountrywoodturners.org.uk
X-WR-CALDESC:Events for Black Country Wood Turners
REFRESH-INTERVAL;VALUE=DURATION:PT1H
X-Robots-Tag:noindex
X-PUBLISHED-TTL:PT1H
BEGIN:VTIMEZONE
TZID:Europe/London
BEGIN:DAYLIGHT
TZOFFSETFROM:+0000
TZOFFSETTO:+0100
TZNAME:BST
DTSTART:20240331T010000
END:DAYLIGHT
BEGIN:STANDARD
TZOFFSETFROM:+0100
TZOFFSETTO:+0000
TZNAME:GMT
DTSTART:20241027T010000
END:STANDARD
BEGIN:DAYLIGHT
TZOFFSETFROM:+0000
TZOFFSETTO:+0100
TZNAME:BST
DTSTART:20250330T010000
END:DAYLIGHT
BEGIN:STANDARD
TZOFFSETFROM:+0100
TZOFFSETTO:+0000
TZNAME:GMT
DTSTART:20251026T010000
END:STANDARD
BEGIN:DAYLIGHT
TZOFFSETFROM:+0000
TZOFFSETTO:+0100
TZNAME:BST
DTSTART:20260329T010000
END:DAYLIGHT
BEGIN:STANDARD
TZOFFSETFROM:+0100
TZOFFSETTO:+0000
TZNAME:GMT
DTSTART:20261025T010000
END:STANDARD
BEGIN:DAYLIGHT
TZOFFSETFROM:+0000
TZOFFSETTO:+0100
TZNAME:BST
DTSTART:20270328T010000
END:DAYLIGHT
BEGIN:STANDARD
TZOFFSETFROM:+0100
TZOFFSETTO:+0000
TZNAME:GMT
DTSTART:20271031T010000
END:STANDARD
END:VTIMEZONE
BEGIN:VEVENT
DTSTART;TZID=Europe/London:20260416T180000
DTEND;TZID=Europe/London:20260416T210000
DTSTAMP:20260421T125234
CREATED:20251116T151741Z
LAST-MODIFIED:20251116T164317Z
UID:12624-1776362400-1776373200@blackcountrywoodturners.org.uk
SUMMARY:April Club Night – Demonstration from Professional Turner - Stephen Kearvell
DESCRIPTION:At our April evening meeting\, we are pleased to welcome professional turner Stephen Kearvell\, who will present a live turning demonstration and share his expertise. \nhttps://skkrafts.woodturners.uk/
URL:http://blackcountrywoodturners.org.uk/event/april-club-night-demonstration-from-professional-turner-stephen-kearvell-6pm-to-9pm/
LOCATION:The Broadway Campus\, The Broadway\, Dudley\, West Midlands\, DY1 4AS\, United Kingdom
CATEGORIES:Club Meeting,Demonstration
ATTACH;FMTTYPE=image/jpeg:http://blackcountrywoodturners.org.uk/wp-content/uploads//2025/11/StevenKearvell.jpg
END:VEVENT
BEGIN:VEVENT
DTSTART;TZID=Europe/London:20260407T193000
DTEND;TZID=Europe/London:20260407T213000
DTSTAMP:20260421T125234
CREATED:20251115T214539Z
LAST-MODIFIED:20251116T193914Z
UID:12589-1775590200-1775597400@blackcountrywoodturners.org.uk
SUMMARY:April Chinwag and The Monthly “Give it a Go”
DESCRIPTION:Join us for the April Chinwag and our Monthly ‘Give it a Go’. \nThe theme this month is a Harry Potter Wand\, \nalong with any additional pieces members wish to share.
URL:http://blackcountrywoodturners.org.uk/event/april-chinwag-and-the-monthly-give-it-a-go/
LOCATION:Online via Zoom
CATEGORIES:Club Meeting,Online Zoom Meeting
ATTACH;FMTTYPE=image/jpeg:http://blackcountrywoodturners.org.uk/wp-content/uploads//2025/11/GiveItAGo-1.jpg
END:VEVENT
BEGIN:VEVENT
DTSTART;TZID=Europe/London:20260319T180000
DTEND;TZID=Europe/London:20260319T210000
DTSTAMP:20260421T125234
CREATED:20251115T223113Z
LAST-MODIFIED:20251116T170801Z
UID:12622-1773943200-1773954000@blackcountrywoodturners.org.uk
SUMMARY:March Club Night – Demonstration from Club Turner Robert Hackett
DESCRIPTION:At our March evening meeting\, we are pleased to welcome our very own club member Robert Hackett\, who will be presenting us with a live turning demonstration on Turning Wands/Thin spindles.
URL:http://blackcountrywoodturners.org.uk/event/march-club-night-demonstration-from-club-turner-robert-hackett/
LOCATION:The Broadway Campus\, The Broadway\, Dudley\, West Midlands\, DY1 4AS\, United Kingdom
CATEGORIES:Club Meeting,Demonstration
ATTACH;FMTTYPE=image/jpeg:http://blackcountrywoodturners.org.uk/wp-content/uploads//2025/11/Robert.jpg
END:VEVENT
BEGIN:VEVENT
DTSTART;TZID=Europe/London:20260303T193000
DTEND;TZID=Europe/London:20260303T213000
DTSTAMP:20260421T125234
CREATED:20251115T213005Z
LAST-MODIFIED:20251116T192409Z
UID:12585-1772566200-1772573400@blackcountrywoodturners.org.uk
SUMMARY:March Chinwag and The Monthly “Give it a Go”
DESCRIPTION:Join us for the March Chinwag and our Monthly ‘Give it a Go’. \nThe theme this month is a Turn an object that is foolish\, comically\, or just plain useless\, \nalong with any additional pieces members wish to share.
URL:http://blackcountrywoodturners.org.uk/event/march-chinwag-and-the-monthly-give-it-a-go/
LOCATION:Online via Zoom
CATEGORIES:Club Meeting,Online Zoom Meeting
ATTACH;FMTTYPE=image/jpeg:http://blackcountrywoodturners.org.uk/wp-content/uploads//2025/11/GiveItAGo-1.jpg
END:VEVENT
BEGIN:VEVENT
DTSTART;TZID=Europe/London:20260219T180000
DTEND;TZID=Europe/London:20260219T210000
DTSTAMP:20260421T125234
CREATED:20251115T222623Z
LAST-MODIFIED:20251116T174020Z
UID:12620-1771524000-1771534800@blackcountrywoodturners.org.uk
SUMMARY:February Club Night – Workshop Evening
DESCRIPTION:The February club meeting will be a Workshop Evening. \nWe will have the club lathes out and available for members to use.
URL:http://blackcountrywoodturners.org.uk/event/february-club-night-workshop-evening/
LOCATION:The Broadway Campus\, The Broadway\, Dudley\, West Midlands\, DY1 4AS\, United Kingdom
CATEGORIES:Club Meeting,Workshop
ATTACH;FMTTYPE=image/jpeg:http://blackcountrywoodturners.org.uk/wp-content/uploads//2025/11/Workshop-evening.jpg
END:VEVENT
BEGIN:VEVENT
DTSTART;TZID=Europe/London:20260203T193000
DTEND;TZID=Europe/London:20260203T213000
DTSTAMP:20260421T125234
CREATED:20251115T212720Z
LAST-MODIFIED:20251116T193239Z
UID:12583-1770147000-1770154200@blackcountrywoodturners.org.uk
SUMMARY:February Chinwag and The Monthly “Give it a Go”
DESCRIPTION:Join us for the March Chinwag and our Monthly ‘Give it a Go’. \nThe theme this month is a Valentines Themed Project Idea\, \nalong with any additional pieces members wish to share.
URL:http://blackcountrywoodturners.org.uk/event/february-chinwag-and-the-monthly-give-it-a-go/
LOCATION:Online via Zoom
CATEGORIES:Club Meeting,Online Zoom Meeting
ATTACH;FMTTYPE=image/jpeg:http://blackcountrywoodturners.org.uk/wp-content/uploads//2025/11/GiveItAGo-1.jpg
END:VEVENT
BEGIN:VEVENT
DTSTART;TZID=Europe/London:20260115T180000
DTEND;TZID=Europe/London:20260115T210000
DTSTAMP:20260421T125234
CREATED:20251115T221944Z
LAST-MODIFIED:20251116T165227Z
UID:12618-1768500000-1768510800@blackcountrywoodturners.org.uk
SUMMARY:January Club Night – Demonstration from Professional Turner & Club Member Wolfgang Schulze-Zachau RPT
DESCRIPTION:At our January evening meeting\, we are pleased to welcome our very own club member & professional turner Wolfgang Schulze-Zachau RPT for his annual club demonstration. \nWolfgang will present a live turning demonstration and share his expertise. \nhttp://www.fuzzyturns.org.uk/
URL:http://blackcountrywoodturners.org.uk/event/january-club-night-demonstration-from-professional-turner-club-member-wolfgang-schulze-zachau-rpt/
LOCATION:The Broadway Campus\, The Broadway\, Dudley\, West Midlands\, DY1 4AS\, United Kingdom
CATEGORIES:Club Meeting,Demonstration
ATTACH;FMTTYPE=image/jpeg:http://blackcountrywoodturners.org.uk/wp-content/uploads//2025/11/Wolfgang-Schulze-Zachau.jpg
END:VEVENT
BEGIN:VEVENT
DTSTART;TZID=Europe/London:20260106T193000
DTEND;TZID=Europe/London:20260106T213000
DTSTAMP:20260421T125234
CREATED:20251115T212108Z
LAST-MODIFIED:20251116T192907Z
UID:12578-1767727800-1767735000@blackcountrywoodturners.org.uk
SUMMARY:January Chinwag and The Monthly “Give it a Go”
DESCRIPTION:Join us for the March Chinwag and our Monthly ‘Give it a Go’. \nThe theme this month is a Spurtle\, Rolling Pin or Pestle & Mortar\, \nalong with any additional pieces members wish to share.
URL:http://blackcountrywoodturners.org.uk/event/january-chinwag-and-give-it-a-go/
LOCATION:Online via Zoom
CATEGORIES:Club Meeting,Online Zoom Meeting
ATTACH;FMTTYPE=image/jpeg:http://blackcountrywoodturners.org.uk/wp-content/uploads//2025/11/GiveItAGo-1.jpg
END:VEVENT
BEGIN:VEVENT
DTSTART;TZID=Europe/London:20251218T183000
DTEND;TZID=Europe/London:20251218T210000
DTSTAMP:20260421T125234
CREATED:20241118T201319Z
LAST-MODIFIED:20241119T183609Z
UID:11392-1766082600-1766091600@blackcountrywoodturners.org.uk
SUMMARY:2025 Club Christmas Bash
DESCRIPTION:Our 2025 Christmas Bash\, probably not much other lathe action going on. \nBut come along to a fun night we will have a buffet table\, a grand mega raffle\, a members’ work gallery table and a tool sale table.
URL:http://blackcountrywoodturners.org.uk/event/2025-club-christmas-bash/
LOCATION:The Broadway Campus\, The Broadway\, Dudley\, West Midlands\, DY1 4AS\, United Kingdom
CATEGORIES:Club Meeting
END:VEVENT
BEGIN:VEVENT
DTSTART;TZID=Europe/London:20251202T193000
DTEND;TZID=Europe/London:20251202T213000
DTSTAMP:20260421T125234
CREATED:20241118T194851Z
LAST-MODIFIED:20250207T173252Z
UID:11383-1764703800-1764711000@blackcountrywoodturners.org.uk
SUMMARY:December Chinwag and The Monthly "Give it a Go"
DESCRIPTION:December Chinwag and The Monthly “Give it a Go” \nThe theme will be – Annual “Anything Goes” Wilder the Better \n+ any other items made by members this month
URL:http://blackcountrywoodturners.org.uk/event/chinwag-12-25/
LOCATION:Online via Zoom
CATEGORIES:Club Meeting,Online Zoom Meeting
END:VEVENT
BEGIN:VEVENT
DTSTART;TZID=Europe/London:20251120T180000
DTEND;TZID=Europe/London:20251120T210000
DTSTAMP:20260421T125234
CREATED:20241118T200931Z
LAST-MODIFIED:20241118T200931Z
UID:11390-1763661600-1763672400@blackcountrywoodturners.org.uk
SUMMARY:2025 AGM Meeting
DESCRIPTION:2025 AGM Meeting \nThis evening we will host our annual general meeting for 2024 \n6:00 pm doors open – Meeting starts at 6:30 pm
URL:http://blackcountrywoodturners.org.uk/event/2025-agm-meeting/
LOCATION:The Broadway Campus\, The Broadway\, Dudley\, West Midlands\, DY1 4AS\, United Kingdom
CATEGORIES:Club Meeting
END:VEVENT
BEGIN:VEVENT
DTSTART;TZID=Europe/London:20251104T193000
DTEND;TZID=Europe/London:20251104T213000
DTSTAMP:20260421T125234
CREATED:20241118T194313Z
LAST-MODIFIED:20250207T161029Z
UID:11381-1762284600-1762291800@blackcountrywoodturners.org.uk
SUMMARY:November Chinwag and The Monthly "Give it a Go"
DESCRIPTION:November Chinwag and The Monthly “Give it a Go” \nThe theme will be – Christmas Ornament / Christmas Gonk / Nutcracker/ Snowman \n+ any other items made by members this month
URL:http://blackcountrywoodturners.org.uk/event/chinwag-11-25/
LOCATION:Online via Zoom
CATEGORIES:Club Meeting,Online Zoom Meeting
END:VEVENT
BEGIN:VEVENT
DTSTART;TZID=Europe/London:20251016T180000
DTEND;TZID=Europe/London:20251016T210000
DTSTAMP:20260421T125234
CREATED:20241119T182622Z
LAST-MODIFIED:20250210T140215Z
UID:11471-1760637600-1760648400@blackcountrywoodturners.org.uk
SUMMARY:October Club Night – Workshop Evening
DESCRIPTION:September Club Night is a Workshop Evening. \nWe will have the club lathes out and available for members to use.
URL:http://blackcountrywoodturners.org.uk/event/october-club-night-demonstration-from-professional-turner-steve-gordon-rpt/
LOCATION:The Broadway Campus\, The Broadway\, Dudley\, West Midlands\, DY1 4AS\, United Kingdom
CATEGORIES:Club Meeting
END:VEVENT
BEGIN:VEVENT
DTSTART;TZID=Europe/London:20251007T193000
DTEND;TZID=Europe/London:20251007T213000
DTSTAMP:20260421T125234
CREATED:20241118T193943Z
LAST-MODIFIED:20250207T173421Z
UID:11379-1759865400-1759872600@blackcountrywoodturners.org.uk
SUMMARY:October Chinwag and The Monthly "Give it a Go"
DESCRIPTION:October Chinwag and The Monthly “Give it a Go” \nThe theme will be – Any Project incorporating Animals \n+ any other items made by members this month
URL:http://blackcountrywoodturners.org.uk/event/chinwag-10-25/
LOCATION:Online via Zoom
CATEGORIES:Club Meeting,Online Zoom Meeting
END:VEVENT
BEGIN:VEVENT
DTSTART;TZID=Europe/London:20250918T180000
DTEND;TZID=Europe/London:20250918T210000
DTSTAMP:20260421T125234
CREATED:20241119T180458Z
LAST-MODIFIED:20250210T140210Z
UID:11464-1758218400-1758229200@blackcountrywoodturners.org.uk
SUMMARY:September Club Night – Demonstration from Pro Turner Steve Gordon RPT
DESCRIPTION:We have a demonstration from professional turner Steve Gordon RPT
URL:http://blackcountrywoodturners.org.uk/event/september-club-night-workshop-evening/
LOCATION:The Broadway Campus\, The Broadway\, Dudley\, West Midlands\, DY1 4AS\, United Kingdom
CATEGORIES:Club Meeting,Demonstration
END:VEVENT
BEGIN:VEVENT
DTSTART;TZID=Europe/London:20250902T193000
DTEND;TZID=Europe/London:20250902T213000
DTSTAMP:20260421T125234
CREATED:20241118T193659Z
LAST-MODIFIED:20250207T173538Z
UID:11377-1756841400-1756848600@blackcountrywoodturners.org.uk
SUMMARY:September Chinwag and The Monthly "Give it a Go"
DESCRIPTION:September Chinwag and The Monthly “Give it a Go” \nThe theme will be – Freestyle Hollow Form Pot / Vase \n+ any other items made by members this month
URL:http://blackcountrywoodturners.org.uk/event/chinwag-09-25/
LOCATION:Online via Zoom
CATEGORIES:Club Meeting,Online Zoom Meeting
END:VEVENT
BEGIN:VEVENT
DTSTART;TZID=Europe/London:20250821T180000
DTEND;TZID=Europe/London:20250821T210000
DTSTAMP:20260421T125234
CREATED:20241119T174932Z
LAST-MODIFIED:20250814T202845Z
UID:11456-1755799200-1755810000@blackcountrywoodturners.org.uk
SUMMARY:August Club Night – Demonstration from Club Turner Barrie Fisher
DESCRIPTION:August Club Night is a Demonstration from Club Turner Barrie Fisher
URL:http://blackcountrywoodturners.org.uk/event/august-club-night-workshop-evening/
LOCATION:The Broadway Campus\, The Broadway\, Dudley\, West Midlands\, DY1 4AS\, United Kingdom
CATEGORIES:Club Meeting
END:VEVENT
BEGIN:VEVENT
DTSTART;TZID=Europe/London:20250805T193000
DTEND;TZID=Europe/London:20250805T213000
DTSTAMP:20260421T125234
CREATED:20241118T193343Z
LAST-MODIFIED:20250207T173714Z
UID:11375-1754422200-1754429400@blackcountrywoodturners.org.uk
SUMMARY:August Chinwag and The Monthly "Give it a Go"
DESCRIPTION:August Chinwag and The Monthly “Give it a Go” \nThe theme will be – Any Item incorporating “Off Centre” work \n+ any other items made by members this month
URL:http://blackcountrywoodturners.org.uk/event/chinwag-08-25/
LOCATION:Online via Zoom
CATEGORIES:Club Meeting,Online Zoom Meeting
END:VEVENT
BEGIN:VEVENT
DTSTART;TZID=Europe/London:20250717T180000
DTEND;TZID=Europe/London:20250717T210000
DTSTAMP:20260421T125234
CREATED:20241119T174113Z
LAST-MODIFIED:20241119T174214Z
UID:11452-1752775200-1752786000@blackcountrywoodturners.org.uk
SUMMARY:July Club Night – Demonstration from club member Robert Hackett
DESCRIPTION:We have a demonstration from our very own club member Robert Hackett
URL:http://blackcountrywoodturners.org.uk/event/july-club-night-demonstration-from-club-member-robert-hackett/
LOCATION:The Broadway Campus\, The Broadway\, Dudley\, West Midlands\, DY1 4AS\, United Kingdom
CATEGORIES:Club Meeting,Demonstration
END:VEVENT
BEGIN:VEVENT
DTSTART;TZID=Europe/London:20250701T193000
DTEND;TZID=Europe/London:20250701T213000
DTSTAMP:20260421T125234
CREATED:20241118T192954Z
LAST-MODIFIED:20250207T173824Z
UID:11373-1751398200-1751405400@blackcountrywoodturners.org.uk
SUMMARY:July Chinwag and The Monthly "Give it a Go"
DESCRIPTION:July Chinwag and The Monthly “Give it a Go” \nThe theme will be – Any Project incorporating Some / All Segment Turning \n+ any other items made by members this month
URL:http://blackcountrywoodturners.org.uk/event/chinwag-07-25/
LOCATION:Online via Zoom
CATEGORIES:Club Meeting,Online Zoom Meeting
END:VEVENT
BEGIN:VEVENT
DTSTART;TZID=Europe/London:20250619T180000
DTEND;TZID=Europe/London:20250619T210000
DTSTAMP:20260421T125234
CREATED:20241119T172541Z
LAST-MODIFIED:20241119T190939Z
UID:11441-1750356000-1750366800@blackcountrywoodturners.org.uk
SUMMARY:June Club Night – Demonstration from Professional Turner Andy James RPT
DESCRIPTION:We have a demonstration from professional turner Andy James RPT. \n  \nThe theme will be Segment Turning
URL:http://blackcountrywoodturners.org.uk/event/june-club-night-demonstration-from-professional-turner-andy-james-rpt/
LOCATION:The Broadway Campus\, The Broadway\, Dudley\, West Midlands\, DY1 4AS\, United Kingdom
CATEGORIES:Club Meeting,Demonstration
END:VEVENT
BEGIN:VEVENT
DTSTART;TZID=Europe/London:20250603T193000
DTEND;TZID=Europe/London:20250603T213000
DTSTAMP:20260421T125234
CREATED:20241118T192558Z
LAST-MODIFIED:20250207T173926Z
UID:11371-1748979000-1748986200@blackcountrywoodturners.org.uk
SUMMARY:June Chinwag and The Monthly "Give it a Go"
DESCRIPTION:June Chinwag and The Monthly “Give it a Go” \nThe theme will be – Straight or Shaped Box with Freestyle Decorated Lid \n+ any other items made by members this month
URL:http://blackcountrywoodturners.org.uk/event/chinwag-06-25/
LOCATION:Online via Zoom
CATEGORIES:Club Meeting,Online Zoom Meeting
END:VEVENT
BEGIN:VEVENT
DTSTART;TZID=Europe/London:20250517T100000
DTEND;TZID=Europe/London:20250517T160000
DTSTAMP:20260421T125234
CREATED:20241119T171643Z
LAST-MODIFIED:20241119T171717Z
UID:11437-1747476000-1747497600@blackcountrywoodturners.org.uk
SUMMARY:Club All Day Workshop
DESCRIPTION:Club All Day Workshop – Theme TBA
URL:http://blackcountrywoodturners.org.uk/event/may-club-all-day-workshop/
LOCATION:The Broadway Campus\, The Broadway\, Dudley\, West Midlands\, DY1 4AS\, United Kingdom
CATEGORIES:Club Meeting
END:VEVENT
BEGIN:VEVENT
DTSTART;TZID=Europe/London:20250515T180000
DTEND;TZID=Europe/London:20250515T210000
DTSTAMP:20260421T125234
CREATED:20241119T170443Z
LAST-MODIFIED:20241119T171005Z
UID:11424-1747332000-1747342800@blackcountrywoodturners.org.uk
SUMMARY:May Club Night – Demonstration from club member Barrie Fisher
DESCRIPTION:We have a demonstration from our very own club member Barrie Fisher
URL:http://blackcountrywoodturners.org.uk/event/club-night-demonstration-from-club-member-barrie-fisher/
LOCATION:The Broadway Campus\, The Broadway\, Dudley\, West Midlands\, DY1 4AS\, United Kingdom
CATEGORIES:Club Meeting,Demonstration
END:VEVENT
BEGIN:VEVENT
DTSTART;TZID=Europe/London:20250506T193000
DTEND;TZID=Europe/London:20250506T213000
DTSTAMP:20260421T125234
CREATED:20241118T192432Z
LAST-MODIFIED:20250207T174106Z
UID:11369-1746559800-1746567000@blackcountrywoodturners.org.uk
SUMMARY:May Chinwag and The Monthly "Give it a Go"
DESCRIPTION:May Chinwag and The Monthly “Give it a Go” \nThe theme will be – Freestyle Hanging Wall Decoration \n+ any other items made by members this month
URL:http://blackcountrywoodturners.org.uk/event/chinwag-05-25/
LOCATION:Online via Zoom
CATEGORIES:Club Meeting,Online Zoom Meeting
END:VEVENT
BEGIN:VEVENT
DTSTART;TZID=Europe/London:20250417T180000
DTEND;TZID=Europe/London:20250417T210000
DTSTAMP:20260421T125234
CREATED:20241119T165256Z
LAST-MODIFIED:20241119T170916Z
UID:11414-1744912800-1744923600@blackcountrywoodturners.org.uk
SUMMARY:April Club Night – Demonstration from club member Andy Dore
DESCRIPTION:We have a demonstration from our very own club member Andy Dore
URL:http://blackcountrywoodturners.org.uk/event/club-night-demonstration-from-club-member-andy-dore/
LOCATION:The Broadway Campus\, The Broadway\, Dudley\, West Midlands\, DY1 4AS\, United Kingdom
CATEGORIES:Club Meeting,Demonstration
END:VEVENT
BEGIN:VEVENT
DTSTART;TZID=Europe/London:20250401T193000
DTEND;TZID=Europe/London:20250401T213000
DTSTAMP:20260421T125234
CREATED:20241118T192132Z
LAST-MODIFIED:20250207T174226Z
UID:11367-1743535800-1743543000@blackcountrywoodturners.org.uk
SUMMARY:April Chinwag and The Monthly "Give it a Go"
DESCRIPTION:April Chinwag and The Monthly “Give it a Go” \nThe theme will be – Any Size -Plain / Textured / Decorated Bowl \n+ any other items made by members this month
URL:http://blackcountrywoodturners.org.uk/event/chinwag-04-25/
LOCATION:The Broadway Campus\, The Broadway\, Dudley\, West Midlands\, DY1 4AS\, United Kingdom
CATEGORIES:Club Meeting,Online Zoom Meeting
END:VEVENT
BEGIN:VEVENT
DTSTART;TZID=Europe/London:20250320T180000
DTEND;TZID=Europe/London:20250320T210000
DTSTAMP:20260421T125234
CREATED:20241119T142304Z
LAST-MODIFIED:20241119T170809Z
UID:11406-1742493600-1742504400@blackcountrywoodturners.org.uk
SUMMARY:March Club Night – Demonstration from Professional  Turner Rick Dobney
DESCRIPTION:We have a demonstration from Professional Turner Rick Dobney. \nhttps://rickdobney.uk/
URL:http://blackcountrywoodturners.org.uk/event/club-night-demonstration-from-professional-turner-rick-dobney/
LOCATION:The Broadway Campus\, The Broadway\, Dudley\, West Midlands\, DY1 4AS\, United Kingdom
CATEGORIES:Club Meeting,Demonstration
END:VEVENT
BEGIN:VEVENT
DTSTART;TZID=Europe/London:20250304T193000
DTEND;TZID=Europe/London:20250304T213000
DTSTAMP:20260421T125234
CREATED:20241118T191921Z
LAST-MODIFIED:20250208T164516Z
UID:11365-1741116600-1741123800@blackcountrywoodturners.org.uk
SUMMARY:March Chinwag and The Monthly "Give it a Go"
DESCRIPTION:March Chinwag and The Monthly “Give it a Go” \nThe theme will be  – Garden Bird Box\, any style. \n+ any other items made by members this month
URL:http://blackcountrywoodturners.org.uk/event/chinwag-03-25/
LOCATION:Online via Zoom
CATEGORIES:Club Meeting,Online Zoom Meeting
END:VEVENT
BEGIN:VEVENT
DTSTART;TZID=Europe/London:20250220T180000
DTEND;TZID=Europe/London:20250220T210000
DTSTAMP:20260421T125234
CREATED:20241119T140403Z
LAST-MODIFIED:20241119T170635Z
UID:11398-1740074400-1740085200@blackcountrywoodturners.org.uk
SUMMARY:February Club Night – Demonstration from club member Steve Hackett
DESCRIPTION:We have a demonstration from our very own club member  – Steve Hackett
URL:http://blackcountrywoodturners.org.uk/event/club-night-demonstration-from-club-member-steve-hackett/
LOCATION:The Broadway Campus\, The Broadway\, Dudley\, West Midlands\, DY1 4AS\, United Kingdom
CATEGORIES:Club Meeting,Demonstration
END:VEVENT
END:VCALENDAR