BEGIN:VCALENDAR
VERSION:2.0
PRODID:-//Black Country Wood Turners - ECPv6.15.12.2//NONSGML v1.0//EN
CALSCALE:GREGORIAN
METHOD:PUBLISH
X-WR-CALNAME:Black Country Wood Turners
X-ORIGINAL-URL:http://blackcountrywoodturners.org.uk
X-WR-CALDESC:Events for Black Country Wood Turners
REFRESH-INTERVAL;VALUE=DURATION:PT1H
X-Robots-Tag:noindex
X-PUBLISHED-TTL:PT1H
BEGIN:VTIMEZONE
TZID:Europe/London
BEGIN:DAYLIGHT
TZOFFSETFROM:+0000
TZOFFSETTO:+0100
TZNAME:BST
DTSTART:20250330T010000
END:DAYLIGHT
BEGIN:STANDARD
TZOFFSETFROM:+0100
TZOFFSETTO:+0000
TZNAME:GMT
DTSTART:20251026T010000
END:STANDARD
BEGIN:DAYLIGHT
TZOFFSETFROM:+0000
TZOFFSETTO:+0100
TZNAME:BST
DTSTART:20260329T010000
END:DAYLIGHT
BEGIN:STANDARD
TZOFFSETFROM:+0100
TZOFFSETTO:+0000
TZNAME:GMT
DTSTART:20261025T010000
END:STANDARD
BEGIN:DAYLIGHT
TZOFFSETFROM:+0000
TZOFFSETTO:+0100
TZNAME:BST
DTSTART:20270328T010000
END:DAYLIGHT
BEGIN:STANDARD
TZOFFSETFROM:+0100
TZOFFSETTO:+0000
TZNAME:GMT
DTSTART:20271031T010000
END:STANDARD
END:VTIMEZONE
BEGIN:VEVENT
DTSTART;TZID=Europe/London:20261006T193000
DTEND;TZID=Europe/London:20261006T213000
DTSTAMP:20260421T125725
CREATED:20251115T220848Z
LAST-MODIFIED:20251116T194803Z
UID:12612-1791315000-1791322200@blackcountrywoodturners.org.uk
SUMMARY:October Chinwag and The Monthly “Give it a Go”
DESCRIPTION:Join us for the October Chinwag and our Monthly ‘Give it a Go’. \nThe theme this month is a Pendant or other Jewelry\, \nalong with any additional pieces members wish to share.
URL:http://blackcountrywoodturners.org.uk/event/october-chinwag-and-the-monthly-give-it-a-go/
LOCATION:Online via Zoom
CATEGORIES:Club Meeting,Online Zoom Meeting
ATTACH;FMTTYPE=image/jpeg:http://blackcountrywoodturners.org.uk/wp-content/uploads//2025/11/GiveItAGo-1.jpg
END:VEVENT
BEGIN:VEVENT
DTSTART;TZID=Europe/London:20261015T180000
DTEND;TZID=Europe/London:20261015T210000
DTSTAMP:20260421T125725
CREATED:20251116T163942Z
LAST-MODIFIED:20251116T163942Z
UID:12657-1792087200-1792098000@blackcountrywoodturners.org.uk
SUMMARY:October Club Night – Demonstration from Professional Turner – Chris Parker
DESCRIPTION:At our October evening meeting\, we are pleased to welcome professional turner Chris Parker\, who will present a live turning demonstration and share his expertise. \nhttps://www.chrisparkerwoodturner.com/
URL:http://blackcountrywoodturners.org.uk/event/october-club-night-demonstration-from-professional-turner-chris-parker/
LOCATION:The Broadway Campus\, The Broadway\, Dudley\, West Midlands\, DY1 4AS\, United Kingdom
CATEGORIES:Club Meeting,Demonstration
ATTACH;FMTTYPE=image/jpeg:http://blackcountrywoodturners.org.uk/wp-content/uploads//2025/11/Chris-Parker.jpeg
END:VEVENT
BEGIN:VEVENT
DTSTART;TZID=Europe/London:20261103T193000
DTEND;TZID=Europe/London:20261103T213000
DTSTAMP:20260421T125725
CREATED:20251115T221122Z
LAST-MODIFIED:20251116T195017Z
UID:12614-1793734200-1793741400@blackcountrywoodturners.org.uk
SUMMARY:November Chinwag and The Monthly “Give it a Go”
DESCRIPTION:Join us for the November Chinwag and our Monthly ‘Give it a Go’. \nThe theme this month is a Christmas Ornament / Christmas Gonk / Nutcracker/ Snowman\, \nalong with any additional pieces members wish to share.
URL:http://blackcountrywoodturners.org.uk/event/november-chinwag-and-the-monthly-give-it-a-go/
LOCATION:Online via Zoom
CATEGORIES:Club Meeting,Online Zoom Meeting
ATTACH;FMTTYPE=image/jpeg:http://blackcountrywoodturners.org.uk/wp-content/uploads//2025/11/GiveItAGo-1.jpg
END:VEVENT
BEGIN:VEVENT
DTSTART;TZID=Europe/London:20261119T180000
DTEND;TZID=Europe/London:20261119T210000
DTSTAMP:20260421T125725
CREATED:20251116T172045Z
LAST-MODIFIED:20251116T172045Z
UID:12674-1795111200-1795122000@blackcountrywoodturners.org.uk
SUMMARY:November 2026 AGM Meeting
DESCRIPTION:2026 AGM Meeting \nThis evening we will host our annual general meeting for 2026 \n6:00 pm doors open – Meeting starts at 6:30 pm
URL:http://blackcountrywoodturners.org.uk/event/november-2026-agm-meeting/
LOCATION:The Broadway Campus\, The Broadway\, Dudley\, West Midlands\, DY1 4AS\, United Kingdom
CATEGORIES:Club Meeting
END:VEVENT
BEGIN:VEVENT
DTSTART;TZID=Europe/London:20261201T193000
DTEND;TZID=Europe/London:20261201T213000
DTSTAMP:20260421T125725
CREATED:20251115T221421Z
LAST-MODIFIED:20251116T195157Z
UID:12616-1796153400-1796160600@blackcountrywoodturners.org.uk
SUMMARY:December Chinwag and The Monthly “Give it a Go”
DESCRIPTION:Join us for the December Chinwag and our Monthly ‘Give it a Go’. \nThe theme this month is a Anything Goes” Wilder the Better\, \nalong with any additional pieces members wish to share.
URL:http://blackcountrywoodturners.org.uk/event/december-chinwag-and-the-monthly-give-it-a-go/
LOCATION:Online via Zoom
CATEGORIES:Club Meeting,Online Zoom Meeting
ATTACH;FMTTYPE=image/jpeg:http://blackcountrywoodturners.org.uk/wp-content/uploads//2025/11/GiveItAGo-1.jpg
END:VEVENT
BEGIN:VEVENT
DTSTART;TZID=Europe/London:20261217T180000
DTEND;TZID=Europe/London:20261217T210000
DTSTAMP:20260421T125725
CREATED:20251116T172505Z
LAST-MODIFIED:20251116T172858Z
UID:12676-1797530400-1797541200@blackcountrywoodturners.org.uk
SUMMARY:2026 Christmas Bash!
DESCRIPTION:It’s time for our 2026 Christmas Bash! \nThere may not be much going on at the lathe\, but we’ll make up for it with a great evening of fun—enjoy the buffet\, try your luck in the grand mega raffle\, explore the members’ work gallery\, and browse the tool sale table.
URL:http://blackcountrywoodturners.org.uk/event/2026-christmas-bash/
LOCATION:The Broadway Campus\, The Broadway\, Dudley\, West Midlands\, DY1 4AS\, United Kingdom
CATEGORIES:Club Meeting
ATTACH;FMTTYPE=image/jpeg:http://blackcountrywoodturners.org.uk/wp-content/uploads//2025/11/xmas.jpg
END:VEVENT
END:VCALENDAR