BEGIN:VCALENDAR
VERSION:2.0
PRODID:-//Black Country Wood Turners - ECPv6.15.12.2//NONSGML v1.0//EN
CALSCALE:GREGORIAN
METHOD:PUBLISH
X-WR-CALNAME:Black Country Wood Turners
X-ORIGINAL-URL:http://blackcountrywoodturners.org.uk
X-WR-CALDESC:Events for Black Country Wood Turners
REFRESH-INTERVAL;VALUE=DURATION:PT1H
X-Robots-Tag:noindex
X-PUBLISHED-TTL:PT1H
BEGIN:VTIMEZONE
TZID:Europe/London
BEGIN:DAYLIGHT
TZOFFSETFROM:+0000
TZOFFSETTO:+0100
TZNAME:BST
DTSTART:20220327T010000
END:DAYLIGHT
BEGIN:STANDARD
TZOFFSETFROM:+0100
TZOFFSETTO:+0000
TZNAME:GMT
DTSTART:20221030T010000
END:STANDARD
BEGIN:DAYLIGHT
TZOFFSETFROM:+0000
TZOFFSETTO:+0100
TZNAME:BST
DTSTART:20230326T010000
END:DAYLIGHT
BEGIN:STANDARD
TZOFFSETFROM:+0100
TZOFFSETTO:+0000
TZNAME:GMT
DTSTART:20231029T010000
END:STANDARD
BEGIN:DAYLIGHT
TZOFFSETFROM:+0000
TZOFFSETTO:+0100
TZNAME:BST
DTSTART:20240331T010000
END:DAYLIGHT
BEGIN:STANDARD
TZOFFSETFROM:+0100
TZOFFSETTO:+0000
TZNAME:GMT
DTSTART:20241027T010000
END:STANDARD
BEGIN:DAYLIGHT
TZOFFSETFROM:+0000
TZOFFSETTO:+0100
TZNAME:BST
DTSTART:20250330T010000
END:DAYLIGHT
BEGIN:STANDARD
TZOFFSETFROM:+0100
TZOFFSETTO:+0000
TZNAME:GMT
DTSTART:20251026T010000
END:STANDARD
BEGIN:DAYLIGHT
TZOFFSETFROM:+0000
TZOFFSETTO:+0100
TZNAME:BST
DTSTART:20260329T010000
END:DAYLIGHT
BEGIN:STANDARD
TZOFFSETFROM:+0100
TZOFFSETTO:+0000
TZNAME:GMT
DTSTART:20261025T010000
END:STANDARD
END:VTIMEZONE
BEGIN:VEVENT
DTSTART;TZID=Europe/London:20250204T193000
DTEND;TZID=Europe/London:20250204T213000
DTSTAMP:20260421T180939
CREATED:20241118T191550Z
LAST-MODIFIED:20250207T174457Z
UID:11363-1738697400-1738704600@blackcountrywoodturners.org.uk
SUMMARY:February Chinwag and The Monthly "Give it a Go"
DESCRIPTION:February Chinwag and The Monthly “Give it a Go” \nThe theme will be – Valentines Theme any Project Idea \n+ any other items made by members this month
URL:http://blackcountrywoodturners.org.uk/event/chinwag-02-25/
LOCATION:Online via Zoom
CATEGORIES:Club Meeting,Online Zoom Meeting
END:VEVENT
BEGIN:VEVENT
DTSTART;TZID=Europe/London:20250116T180000
DTEND;TZID=Europe/London:20250116T210000
DTSTAMP:20260421T180939
CREATED:20241118T200040Z
LAST-MODIFIED:20241119T170722Z
UID:11385-1737050400-1737061200@blackcountrywoodturners.org.uk
SUMMARY:January Club Night – Demonstration from Professional Turner & Club member Wolfgang Schulze-Zachau RPT
DESCRIPTION:We have a demonstration from our very own club member & professional turner Wolfgang Schulze-Zachau RPT  \nhttp://www.fuzzyturns.org.uk/
URL:http://blackcountrywoodturners.org.uk/event/club-member-demo-wolfgang-schulze-zachau-rpt-01-24/
LOCATION:The Broadway Campus\, The Broadway\, Dudley\, West Midlands\, DY1 4AS\, United Kingdom
CATEGORIES:Club Meeting,Demonstration
END:VEVENT
BEGIN:VEVENT
DTSTART;TZID=Europe/London:20250107T193000
DTEND;TZID=Europe/London:20250107T213000
DTSTAMP:20260421T180939
CREATED:20241118T190843Z
LAST-MODIFIED:20241119T173359Z
UID:11360-1736278200-1736285400@blackcountrywoodturners.org.uk
SUMMARY:January Chinwag and Chairman’s Challenge
DESCRIPTION:January Chinwag and Chairman’s Challenge \nThe theme will be “Give it a Go” – Free Style Decorated Rim Platter (Any Size) \n+ any other items made by members this month
URL:http://blackcountrywoodturners.org.uk/event/chinwag-01-25/
LOCATION:Online via Zoom
CATEGORIES:Club Meeting,Online Zoom Meeting
END:VEVENT
BEGIN:VEVENT
DTSTART;TZID=Europe/London:20241212T183000
DTEND;TZID=Europe/London:20241212T210000
DTSTAMP:20260421T180939
CREATED:20231219T182410Z
LAST-MODIFIED:20231219T182410Z
UID:8758-1734028200-1734037200@blackcountrywoodturners.org.uk
SUMMARY:2024 Club Christmas Bash
DESCRIPTION:Our 2024 Christmas Bash\, probably not much other lathe action going on. But come along to a fun night we will have a buffet table\, a grand mega raffle\, a members’ work gallery table and a tool sale table.
URL:http://blackcountrywoodturners.org.uk/event/2024-club-christmas-bash/
LOCATION:The Broadway Campus\, The Broadway\, Dudley\, West Midlands\, DY1 4AS\, United Kingdom
CATEGORIES:Club Meeting
END:VEVENT
BEGIN:VEVENT
DTSTART;TZID=Europe/London:20241203T193000
DTEND;TZID=Europe/London:20241203T213000
DTSTAMP:20260421T180939
CREATED:20231219T171533Z
LAST-MODIFIED:20240704T214846Z
UID:8737-1733254200-1733261400@blackcountrywoodturners.org.uk
SUMMARY:Chinwag 12/24
DESCRIPTION:Chinwag and Chairman’s Challenge 12/24 – The theme will be “Anything you fancy crazier the better….” + any other items made by members this month
URL:http://blackcountrywoodturners.org.uk/event/chinwag-12-24/
LOCATION:Online via Zoom
CATEGORIES:Club Meeting,Online Zoom Meeting
END:VEVENT
BEGIN:VEVENT
DTSTART;TZID=Europe/London:20241121T183000
DTEND;TZID=Europe/London:20241121T210000
DTSTAMP:20260421T180939
CREATED:20231219T180754Z
LAST-MODIFIED:20231219T180754Z
UID:8756-1732213800-1732222800@blackcountrywoodturners.org.uk
SUMMARY:2024 AGM Meeting
DESCRIPTION:2024 AGM Meeting \nThis evening we will host our annual general meeting for 2024 \n6:00 pm doors open – Meeting starts at 6:30 pm
URL:http://blackcountrywoodturners.org.uk/event/2024-agm-meeting/
LOCATION:The Broadway Campus\, The Broadway\, Dudley\, West Midlands\, DY1 4AS\, United Kingdom
CATEGORIES:Club Meeting
END:VEVENT
BEGIN:VEVENT
DTSTART;TZID=Europe/London:20241105T193000
DTEND;TZID=Europe/London:20241105T213000
DTSTAMP:20260421T180939
CREATED:20231219T171214Z
LAST-MODIFIED:20240704T214711Z
UID:8735-1730835000-1730842200@blackcountrywoodturners.org.uk
SUMMARY:Chinwag 11/24
DESCRIPTION:Chinwag and Chairman’s Challenge 11/24 – The theme will be “Christmas Ornament / Christmas Gonk / Nutcracker/ Snowman” + any other items made by members this month
URL:http://blackcountrywoodturners.org.uk/event/chinwag-11-24/
LOCATION:Online via Zoom
CATEGORIES:Club Meeting,Online Zoom Meeting
END:VEVENT
BEGIN:VEVENT
DTSTART;TZID=Europe/London:20241017T180000
DTEND;TZID=Europe/London:20241017T210000
DTSTAMP:20260421T180939
CREATED:20231219T180256Z
LAST-MODIFIED:20231219T180256Z
UID:8754-1729188000-1729198800@blackcountrywoodturners.org.uk
SUMMARY:Pro Turner Demonstration from Ian Ethell 10/24
DESCRIPTION:Pro Turner Demonstration from Ian Ethell 10/24
URL:http://blackcountrywoodturners.org.uk/event/pro-turner-demonstration-from-ian-ethell-10-24/
LOCATION:The Broadway Campus\, The Broadway\, Dudley\, West Midlands\, DY1 4AS\, United Kingdom
CATEGORIES:Club Meeting,Demonstration
END:VEVENT
BEGIN:VEVENT
DTSTART;TZID=Europe/London:20241001T193000
DTEND;TZID=Europe/London:20241001T213000
DTSTAMP:20260421T180939
CREATED:20231219T170922Z
LAST-MODIFIED:20240704T214617Z
UID:8733-1727811000-1727818200@blackcountrywoodturners.org.uk
SUMMARY:Chinwag 10/24
DESCRIPTION:Chinwag and Chairman’s Challenge 10/24 – The theme will be “Goblet with Captive Ring / Hand Bell with or without ringer” + any other items made by members this month
URL:http://blackcountrywoodturners.org.uk/event/chinwag-10-24/
LOCATION:Online via Zoom
CATEGORIES:Club Meeting,Online Zoom Meeting
END:VEVENT
BEGIN:VEVENT
DTSTART;TZID=Europe/London:20240928T100000
DTEND;TZID=Europe/London:20240928T160000
DTSTAMP:20260421T180939
CREATED:20231219T175808Z
LAST-MODIFIED:20240123T170727Z
UID:8751-1727517600-1727539200@blackcountrywoodturners.org.uk
SUMMARY:Saturday All-Day Pro Turner Demonstration with Jason Breach
DESCRIPTION:Saturday All-Day Pro Turner Demonstration with Jason Breach
URL:http://blackcountrywoodturners.org.uk/event/saturday-all-day-pro-turner-demonstration-with-jason-breach-04-23/
LOCATION:The Broadway Campus\, The Broadway\, Dudley\, West Midlands\, DY1 4AS\, United Kingdom
CATEGORIES:Club Meeting,Demonstration
END:VEVENT
BEGIN:VEVENT
DTSTART;TZID=Europe/London:20240919T180000
DTEND;TZID=Europe/London:20240919T210000
DTSTAMP:20260421T180939
CREATED:20231219T175227Z
LAST-MODIFIED:20231219T175227Z
UID:8749-1726768800-1726779600@blackcountrywoodturners.org.uk
SUMMARY:Workshop Evening 09/24
DESCRIPTION:A normal workshop evening where all the lathes will be out. This is an opportunity to learn something new or improve a particular technique\, or just have a chat with fellow club members.
URL:http://blackcountrywoodturners.org.uk/event/workshop-evening-09-24/
LOCATION:The Broadway Campus\, The Broadway\, Dudley\, West Midlands\, DY1 4AS\, United Kingdom
CATEGORIES:Club Meeting
END:VEVENT
BEGIN:VEVENT
DTSTART;TZID=Europe/London:20240903T193000
DTEND;TZID=Europe/London:20240903T213000
DTSTAMP:20260421T180939
CREATED:20231219T170555Z
LAST-MODIFIED:20240704T214407Z
UID:8731-1725391800-1725399000@blackcountrywoodturners.org.uk
SUMMARY:Chinwag 09/24
DESCRIPTION:Chinwag and Chairman’s Challenge 09/24 – The theme will be “Hollow form any shape /style” + any other items made by members this month
URL:http://blackcountrywoodturners.org.uk/event/chinwag-09-24/
LOCATION:Online via Zoom
CATEGORIES:Club Meeting,Online Zoom Meeting
END:VEVENT
BEGIN:VEVENT
DTSTART;TZID=Europe/London:20240815T180000
DTEND;TZID=Europe/London:20240815T210000
DTSTAMP:20260421T180939
CREATED:20231219T174506Z
LAST-MODIFIED:20231219T174506Z
UID:8745-1723744800-1723755600@blackcountrywoodturners.org.uk
SUMMARY:Workshop Evening 08/24
DESCRIPTION:Workshop Evening 08/24 \nA normal workshop evening where all the lathes will be out. This is an opportunity to learn something new or improve a particular technique\, or just have a chat with fellow club members.
URL:http://blackcountrywoodturners.org.uk/event/workshop-evening-08-24/
LOCATION:The Broadway Campus\, The Broadway\, Dudley\, West Midlands\, DY1 4AS\, United Kingdom
CATEGORIES:Club Meeting
END:VEVENT
BEGIN:VEVENT
DTSTART;TZID=Europe/London:20240806T193000
DTEND;TZID=Europe/London:20240806T213000
DTSTAMP:20260421T180939
CREATED:20231219T170220Z
LAST-MODIFIED:20240704T214224Z
UID:8729-1722972600-1722979800@blackcountrywoodturners.org.uk
SUMMARY:Chinwag 08/24
DESCRIPTION:Chinwag and Chairman’s Challenge 08/24 – The theme will be “Penguin(s) or other animal(s)” + any other items made by members this month
URL:http://blackcountrywoodturners.org.uk/event/chinwag-08-24/
LOCATION:Online via Zoom
CATEGORIES:Club Meeting,Online Zoom Meeting
END:VEVENT
BEGIN:VEVENT
DTSTART;TZID=Europe/London:20240704T193000
DTEND;TZID=Europe/London:20240704T213000
DTSTAMP:20260421T180939
CREATED:20231219T165928Z
LAST-MODIFIED:20231219T165928Z
UID:8727-1720121400-1720128600@blackcountrywoodturners.org.uk
SUMMARY:Chinwag 07/24
DESCRIPTION:Chinwag and Chairman’s Challenge 07/24 – The theme will be “Lidded Box Plain or decorated” + any other items made by members this month
URL:http://blackcountrywoodturners.org.uk/event/chinwag-07-24/
LOCATION:Online via Zoom
CATEGORIES:Club Meeting,Online Zoom Meeting
END:VEVENT
BEGIN:VEVENT
DTSTART;TZID=Europe/London:20240615T080000
DTEND;TZID=Europe/London:20240615T160000
DTSTAMP:20260421T180939
CREATED:20231219T174058Z
LAST-MODIFIED:20231219T174058Z
UID:8743-1718438400-1718467200@blackcountrywoodturners.org.uk
SUMMARY:All Day Workshop 06/24
DESCRIPTION:All Day Workshop 06/24 \nBring your own lunch
URL:http://blackcountrywoodturners.org.uk/event/all-day-workshop-06-24/
LOCATION:The Broadway Campus\, The Broadway\, Dudley\, West Midlands\, DY1 4AS\, United Kingdom
CATEGORIES:Club Meeting
END:VEVENT
BEGIN:VEVENT
DTSTART;TZID=Europe/London:20240606T193000
DTEND;TZID=Europe/London:20240606T213000
DTSTAMP:20260421T180939
CREATED:20231219T165626Z
LAST-MODIFIED:20231219T165626Z
UID:8725-1717702200-1717709400@blackcountrywoodturners.org.uk
SUMMARY:Chinwag 06/24
DESCRIPTION:Chinwag and Chairman’s Challenge 06/24 \n– The theme will be “Bird Box Large or Small” + any other items made by members this month
URL:http://blackcountrywoodturners.org.uk/event/chinwag-06-24/
LOCATION:Online via Zoom
CATEGORIES:Club Meeting,Online Zoom Meeting
END:VEVENT
BEGIN:VEVENT
DTSTART;TZID=Europe/London:20240516T180000
DTEND;TZID=Europe/London:20240516T210000
DTSTAMP:20260421T180939
CREATED:20231219T173613Z
LAST-MODIFIED:20231219T173613Z
UID:8741-1715882400-1715893200@blackcountrywoodturners.org.uk
SUMMARY:Demonstration by 2 x Club Turners - Barry Fisher & Andy Dore
DESCRIPTION:Demonstration by 2 x Club Turners \nBarry Fisher & Andy Dore will be splitting the evening with a demonstration from each of them.
URL:http://blackcountrywoodturners.org.uk/event/demonstration-by-2-x-club-turners-barry-fisher-andy-dore/
LOCATION:The Broadway Campus\, The Broadway\, Dudley\, West Midlands\, DY1 4AS\, United Kingdom
CATEGORIES:Club Meeting,Demonstration
END:VEVENT
BEGIN:VEVENT
DTSTART;TZID=Europe/London:20240502T193000
DTEND;TZID=Europe/London:20240502T213000
DTSTAMP:20260421T180939
CREATED:20231219T165201Z
LAST-MODIFIED:20231219T165201Z
UID:8723-1714678200-1714685400@blackcountrywoodturners.org.uk
SUMMARY:Chinwag 05/24
DESCRIPTION:Chinwag and Chairman’s Challenge  05/24 \n– The theme will be “Small Pierced Bowl /Platter/Vase / Box /Free Choice” \n+ any other items made by members this month
URL:http://blackcountrywoodturners.org.uk/event/chinwag-05-24/
LOCATION:Online via Zoom
CATEGORIES:Club Meeting,Online Zoom Meeting
END:VEVENT
BEGIN:VEVENT
DTSTART;TZID=Europe/London:20240404T193000
DTEND;TZID=Europe/London:20240404T213000
DTSTAMP:20260421T180939
CREATED:20231219T164745Z
LAST-MODIFIED:20231219T164745Z
UID:8721-1712259000-1712266200@blackcountrywoodturners.org.uk
SUMMARY:Chinwag 04/24
DESCRIPTION:Chinwag and Chairman’s Challenge 04/24 \n– The theme will be “Three Pieces of Fruit (Different woods)” \n+ any other items made by members this month
URL:http://blackcountrywoodturners.org.uk/event/chinwag-04-24/
LOCATION:Online via Zoom
CATEGORIES:Club Meeting,Online Zoom Meeting
END:VEVENT
BEGIN:VEVENT
DTSTART;TZID=Europe/London:20240321T180000
DTEND;TZID=Europe/London:20240321T210000
DTSTAMP:20260421T180939
CREATED:20231219T172516Z
LAST-MODIFIED:20231222T142646Z
UID:8739-1711044000-1711054800@blackcountrywoodturners.org.uk
SUMMARY:Pro Turner Demonstration from Bryan Milham (The Village Woodturner) 03/24
DESCRIPTION:Pro Turner demonstration from Bryan Milham (The Village Woodturner) 03/24 \nBryan offers 2 projects for his demonstrations \n\nBeyond Colour – I’ve used ceramics to develop enhancements for my woodturning\n A Tall\, thin-stemmed Goblet\n\n 
URL:http://blackcountrywoodturners.org.uk/event/pro-turner-demonstration-from-to-be-announced-03-24/
LOCATION:The Broadway Campus\, The Broadway\, Dudley\, West Midlands\, DY1 4AS\, United Kingdom
CATEGORIES:Club Meeting
END:VEVENT
BEGIN:VEVENT
DTSTART;TZID=Europe/London:20240307T193000
DTEND;TZID=Europe/London:20240307T213000
DTSTAMP:20260421T180939
CREATED:20231219T164417Z
LAST-MODIFIED:20231219T164417Z
UID:8719-1709839800-1709847000@blackcountrywoodturners.org.uk
SUMMARY:Chinwag 03/24
DESCRIPTION:Chinwag and Chairman’s Challenge 03/24 \n– The theme will be “Vase with Decorated & or Textured Rim” \n+ any other items made by members this month
URL:http://blackcountrywoodturners.org.uk/event/chinwag-03-24/
LOCATION:Online via Zoom
CATEGORIES:Club Meeting,Online Zoom Meeting
END:VEVENT
BEGIN:VEVENT
DTSTART;TZID=Europe/London:20240201T193000
DTEND;TZID=Europe/London:20240201T213000
DTSTAMP:20260421T180939
CREATED:20231219T162302Z
LAST-MODIFIED:20231219T164014Z
UID:8710-1706815800-1706823000@blackcountrywoodturners.org.uk
SUMMARY:Chinwag 02/24
DESCRIPTION:Chinwag and Chairman’s Challenge 01/24 \n– The theme will be “Platter with decorated Rim 150 to 200 mm in diameter” \n+ any other items made by members this month
URL:http://blackcountrywoodturners.org.uk/event/chinwag-02-23-2/
LOCATION:Online via Zoom
CATEGORIES:Club Meeting,Online Zoom Meeting
END:VEVENT
BEGIN:VEVENT
DTSTART;TZID=Europe/London:20240104T193000
DTEND;TZID=Europe/London:20240104T213000
DTSTAMP:20260421T180939
CREATED:20231219T161808Z
LAST-MODIFIED:20231219T163231Z
UID:8707-1704396600-1704403800@blackcountrywoodturners.org.uk
SUMMARY:Chinwag 01/24
DESCRIPTION:Chinwag and Chairman’s Challenge  01/24  \n – Theme will be “Any Style Bowl between 100 -150 mm in diameter.” \n+ any other items made by members this month
URL:http://blackcountrywoodturners.org.uk/event/chinwag-12-23-2/
LOCATION:Online via Zoom
CATEGORIES:Club Meeting,Online Zoom Meeting
END:VEVENT
BEGIN:VEVENT
DTSTART;TZID=Europe/London:20231214T180000
DTEND;TZID=Europe/London:20231214T210000
DTSTAMP:20260421T180939
CREATED:20221208T223613Z
LAST-MODIFIED:20221208T223736Z
UID:6727-1702576800-1702587600@blackcountrywoodturners.org.uk
SUMMARY:Christmas Bash 2023
DESCRIPTION:Our annual Christmas Bash\, probably not much other lathe action but will \nInclude a Buffet\, Grand Raffle & Tool Sales
URL:http://blackcountrywoodturners.org.uk/event/christmas-bash-2023/
LOCATION:The Broadway Campus\, The Broadway\, Dudley\, West Midlands\, DY1 4AS\, United Kingdom
CATEGORIES:Club Meeting
END:VEVENT
BEGIN:VEVENT
DTSTART;TZID=Europe/London:20231207T193000
DTEND;TZID=Europe/London:20231207T213000
DTSTAMP:20260421T180939
CREATED:20221208T211707Z
LAST-MODIFIED:20230220T215829Z
UID:6702-1701977400-1701984600@blackcountrywoodturners.org.uk
SUMMARY:Chinwag 12-23
DESCRIPTION:Chinwag and Chairman’s Challenge \nTheme – Surprise us with your skill/imagination  \n+ any other items made by members this month
URL:http://blackcountrywoodturners.org.uk/event/chinwag-12-23/
LOCATION:West Midlands
CATEGORIES:Club Meeting
END:VEVENT
BEGIN:VEVENT
DTSTART;TZID=Europe/London:20231116T180000
DTEND;TZID=Europe/London:20231116T210000
DTSTAMP:20260421T180939
CREATED:20221208T223117Z
LAST-MODIFIED:20221208T223117Z
UID:6725-1700157600-1700168400@blackcountrywoodturners.org.uk
SUMMARY:AGM for 2023
DESCRIPTION:This evening will host our annual general meeting for 2023
URL:http://blackcountrywoodturners.org.uk/event/agm-for-2023/
LOCATION:The Broadway Campus\, The Broadway\, Dudley\, West Midlands\, DY1 4AS\, United Kingdom
CATEGORIES:Club Meeting
END:VEVENT
BEGIN:VEVENT
DTSTART;TZID=Europe/London:20231102T193000
DTEND;TZID=Europe/London:20231102T213000
DTSTAMP:20260421T180939
CREATED:20221208T211049Z
LAST-MODIFIED:20230220T215702Z
UID:6700-1698953400-1698960600@blackcountrywoodturners.org.uk
SUMMARY:Chinwag 11-23
DESCRIPTION:Chinwag and Chairman’s Challenge \nTheme – Christmas Theme Project \n+ any other items made by members this month
URL:http://blackcountrywoodturners.org.uk/event/chinwag-11-23/
LOCATION:West Midlands
CATEGORIES:Club Meeting
END:VEVENT
BEGIN:VEVENT
DTSTART;TZID=Europe/London:20231019T190000
DTEND;TZID=Europe/London:20231019T220000
DTSTAMP:20260421T180939
CREATED:20221208T222648Z
LAST-MODIFIED:20230519T161437Z
UID:6723-1697742000-1697752800@blackcountrywoodturners.org.uk
SUMMARY:Pro Turner Demonstration with Stewart Furini 10-23
DESCRIPTION:  \n  \nPro Turner Evening Live Demonstration with Stewart Furini
URL:http://blackcountrywoodturners.org.uk/event/pro-turner-demonstration-stewart-furini-10-23/
LOCATION:The Broadway Campus\, The Broadway\, Dudley\, West Midlands\, DY1 4AS\, United Kingdom
CATEGORIES:Club Meeting
END:VEVENT
BEGIN:VEVENT
DTSTART;TZID=Europe/London:20231005T203000
DTEND;TZID=Europe/London:20231005T223000
DTSTAMP:20260421T180939
CREATED:20221208T210655Z
LAST-MODIFIED:20230220T215533Z
UID:6698-1696537800-1696545000@blackcountrywoodturners.org.uk
SUMMARY:Chinwag 10-23
DESCRIPTION:Chinwag and Chairman’s Challenge \nTheme – Bird Box \n+ any other items made by members this month
URL:http://blackcountrywoodturners.org.uk/event/chinwag-10-23/
LOCATION:West Midlands
CATEGORIES:Club Meeting
END:VEVENT
END:VCALENDAR