BEGIN:VCALENDAR
VERSION:2.0
PRODID:-//Black Country Wood Turners - ECPv6.15.12.2//NONSGML v1.0//EN
CALSCALE:GREGORIAN
METHOD:PUBLISH
X-ORIGINAL-URL:http://blackcountrywoodturners.org.uk
X-WR-CALDESC:Events for Black Country Wood Turners
REFRESH-INTERVAL;VALUE=DURATION:PT1H
X-Robots-Tag:noindex
X-PUBLISHED-TTL:PT1H
BEGIN:VTIMEZONE
TZID:Europe/London
BEGIN:DAYLIGHT
TZOFFSETFROM:+0000
TZOFFSETTO:+0100
TZNAME:BST
DTSTART:20150329T010000
END:DAYLIGHT
BEGIN:STANDARD
TZOFFSETFROM:+0100
TZOFFSETTO:+0000
TZNAME:GMT
DTSTART:20151025T010000
END:STANDARD
BEGIN:DAYLIGHT
TZOFFSETFROM:+0000
TZOFFSETTO:+0100
TZNAME:BST
DTSTART:20160327T010000
END:DAYLIGHT
BEGIN:STANDARD
TZOFFSETFROM:+0100
TZOFFSETTO:+0000
TZNAME:GMT
DTSTART:20161030T010000
END:STANDARD
BEGIN:DAYLIGHT
TZOFFSETFROM:+0000
TZOFFSETTO:+0100
TZNAME:BST
DTSTART:20170326T010000
END:DAYLIGHT
BEGIN:STANDARD
TZOFFSETFROM:+0100
TZOFFSETTO:+0000
TZNAME:GMT
DTSTART:20171029T010000
END:STANDARD
BEGIN:DAYLIGHT
TZOFFSETFROM:+0000
TZOFFSETTO:+0100
TZNAME:BST
DTSTART:20180325T010000
END:DAYLIGHT
BEGIN:STANDARD
TZOFFSETFROM:+0100
TZOFFSETTO:+0000
TZNAME:GMT
DTSTART:20181028T010000
END:STANDARD
BEGIN:DAYLIGHT
TZOFFSETFROM:+0000
TZOFFSETTO:+0100
TZNAME:BST
DTSTART:20190331T010000
END:DAYLIGHT
BEGIN:STANDARD
TZOFFSETFROM:+0100
TZOFFSETTO:+0000
TZNAME:GMT
DTSTART:20191027T010000
END:STANDARD
END:VTIMEZONE
BEGIN:VEVENT
DTSTART;TZID=Europe/London:20181213T180000
DTEND;TZID=Europe/London:20181213T210000
DTSTAMP:20260422T095538
CREATED:20180529T115531Z
LAST-MODIFIED:20181008T085252Z
UID:687-1544724000-1544734800@blackcountrywoodturners.org.uk
SUMMARY:Demo S&R Hackett
DESCRIPTION:Another demo by fellow club members\, this time it’s Steve and Rob Hackett\, and their subject is making acrylic pen blanks.
URL:http://blackcountrywoodturners.org.uk/event/demo-sr-hackett/
LOCATION:The Broadway Campus\, The Broadway\, Dudley\, West Midlands\, DY1 4AS\, United Kingdom
CATEGORIES:Monthly Meeting
END:VEVENT
BEGIN:VEVENT
DTSTART;TZID=Europe/London:20181115T180000
DTEND;TZID=Europe/London:20181115T210000
DTSTAMP:20260422T095538
CREATED:20180529T115321Z
LAST-MODIFIED:20181114T163657Z
UID:685-1542304800-1542315600@blackcountrywoodturners.org.uk
SUMMARY:AGM and Xmas Social
DESCRIPTION:Our annual general meeting\, and once we are finished with the official bits\, we hold our social gathering on account of Christmas being close.
URL:http://blackcountrywoodturners.org.uk/event/agm-and-xmas-social/
LOCATION:The Broadway Campus\, The Broadway\, Dudley\, West Midlands\, DY1 4AS\, United Kingdom
CATEGORIES:Monthly Meeting
END:VEVENT
BEGIN:VEVENT
DTSTART;TZID=Europe/London:20181018T190000
DTEND;TZID=Europe/London:20181018T220000
DTSTAMP:20260422T095538
CREATED:20180529T114834Z
LAST-MODIFIED:20180529T114834Z
UID:681-1539889200-1539900000@blackcountrywoodturners.org.uk
SUMMARY:Demo Robert Till
DESCRIPTION:A standard club meeting\, with a demo from professional turner Robert Till. Subject to be confirmed.
URL:http://blackcountrywoodturners.org.uk/event/demo-robert-till-2/
LOCATION:The Broadway Campus\, The Broadway\, Dudley\, West Midlands\, DY1 4AS\, United Kingdom
CATEGORIES:Monthly Meeting
END:VEVENT
BEGIN:VEVENT
DTSTART;TZID=Europe/London:20180920T190000
DTEND;TZID=Europe/London:20180920T220000
DTSTAMP:20260422T095538
CREATED:20180529T114610Z
LAST-MODIFIED:20180529T114610Z
UID:679-1537470000-1537480800@blackcountrywoodturners.org.uk
SUMMARY:Demo Bob Mercer
DESCRIPTION:A standard club meeting\, with a demo by club member Bob Mercer. Subject to be confirmed.
URL:http://blackcountrywoodturners.org.uk/event/demo-bob-mercer-3/
LOCATION:The Broadway Campus\, The Broadway\, Dudley\, West Midlands\, DY1 4AS\, United Kingdom
CATEGORIES:Monthly Meeting
END:VEVENT
BEGIN:VEVENT
DTSTART;TZID=Europe/London:20180816T190000
DTEND;TZID=Europe/London:20180816T220000
DTSTAMP:20260422T095538
CREATED:20180529T114438Z
LAST-MODIFIED:20180529T114438Z
UID:677-1534446000-1534456800@blackcountrywoodturners.org.uk
SUMMARY:Hands-on
DESCRIPTION:A normal hands-on meeting. Considering this is August\, we still need to confirm availability of the facility with the College.
URL:http://blackcountrywoodturners.org.uk/event/hands-on-6/
LOCATION:The Broadway Campus\, The Broadway\, Dudley\, West Midlands\, DY1 4AS\, United Kingdom
CATEGORIES:Monthly Meeting
END:VEVENT
BEGIN:VEVENT
DTSTART;TZID=Europe/London:20180719T190000
DTEND;TZID=Europe/London:20180719T220000
DTSTAMP:20260422T095538
CREATED:20180529T114240Z
LAST-MODIFIED:20180529T114240Z
UID:675-1532026800-1532037600@blackcountrywoodturners.org.uk
SUMMARY:Hands-on
DESCRIPTION:A normal hands-on meeting\, subject still to be confirmed.
URL:http://blackcountrywoodturners.org.uk/event/hands-on-5/
LOCATION:The Broadway Campus\, The Broadway\, Dudley\, West Midlands\, DY1 4AS\, United Kingdom
CATEGORIES:Monthly Meeting
END:VEVENT
BEGIN:VEVENT
DTSTART;TZID=Europe/London:20180621T190000
DTEND;TZID=Europe/London:20180621T220000
DTSTAMP:20260422T095538
CREATED:20171026T204850Z
LAST-MODIFIED:20171026T204850Z
UID:440-1529607600-1529618400@blackcountrywoodturners.org.uk
SUMMARY:Hands-On: Barley Twists
DESCRIPTION:Another hands-on evening\, and this time the focus is on how to make barley twists. However\, anybody is welcome to come along and ask whatever questions need an answer.
URL:http://blackcountrywoodturners.org.uk/event/hands-on-barley-twists/
LOCATION:The Broadway Campus\, The Broadway\, Dudley\, West Midlands\, DY1 4AS\, United Kingdom
CATEGORIES:Monthly Meeting
END:VEVENT
BEGIN:VEVENT
DTSTART;TZID=Europe/London:20180517T190000
DTEND;TZID=Europe/London:20180517T220000
DTSTAMP:20260422T095538
CREATED:20171026T204657Z
LAST-MODIFIED:20171026T204657Z
UID:438-1526583600-1526594400@blackcountrywoodturners.org.uk
SUMMARY:Demo: John Atkins
DESCRIPTION:The subject for this demo still has to be decided.
URL:http://blackcountrywoodturners.org.uk/event/demo-john-atkins/
LOCATION:The Broadway Campus\, The Broadway\, Dudley\, West Midlands\, DY1 4AS\, United Kingdom
CATEGORIES:Monthly Meeting
END:VEVENT
BEGIN:VEVENT
DTSTART;TZID=Europe/London:20180419T190000
DTEND;TZID=Europe/London:20180419T223000
DTSTAMP:20260422T095538
CREATED:20171026T204314Z
LAST-MODIFIED:20171026T204314Z
UID:436-1524164400-1524177000@blackcountrywoodturners.org.uk
SUMMARY:Demo: Wolfgang Schulze-Zachau
DESCRIPTION:Wolfgang is one of our club members\, and he hasn’t decided yet on a subject for the evening. Members can submit ideas via the forum (a relevant forum post will be opened for this).
URL:http://blackcountrywoodturners.org.uk/event/demo-wolfgang-schulze-zachau/
LOCATION:The Broadway Campus\, The Broadway\, Dudley\, West Midlands\, DY1 4AS\, United Kingdom
CATEGORIES:Monthly Meeting
END:VEVENT
BEGIN:VEVENT
DTSTART;TZID=Europe/London:20180315T180000
DTEND;TZID=Europe/London:20180315T210000
DTSTAMP:20260422T095538
CREATED:20171026T204123Z
LAST-MODIFIED:20171026T204123Z
UID:434-1521136800-1521147600@blackcountrywoodturners.org.uk
SUMMARY:Hands-on: Cup and ball
DESCRIPTION:Today we will be doing a hands-on evening\, where everybody can come and give it a try. The subject is “cup and ball”\, but anybody wanting any assistance should just come and we will have a member to help.
URL:http://blackcountrywoodturners.org.uk/event/hands-on-cup-and-ball/
LOCATION:The Broadway Campus\, The Broadway\, Dudley\, West Midlands\, DY1 4AS\, United Kingdom
CATEGORIES:Monthly Meeting
END:VEVENT
BEGIN:VEVENT
DTSTART;TZID=Europe/London:20180215T180000
DTEND;TZID=Europe/London:20180215T210000
DTSTAMP:20260422T095538
CREATED:20171026T203904Z
LAST-MODIFIED:20180119T194834Z
UID:432-1518717600-1518728400@blackcountrywoodturners.org.uk
SUMMARY:Demo: Paul Hannaby
DESCRIPTION:Paul has demonstrated at the club before\, his last evening was about making a bowl from a plank of wood. For this demo\, the subject is still to be defined.
URL:http://blackcountrywoodturners.org.uk/event/demo-paul-hanbury/
LOCATION:The Broadway Campus\, The Broadway\, Dudley\, West Midlands\, DY1 4AS\, United Kingdom
CATEGORIES:Monthly Meeting
END:VEVENT
BEGIN:VEVENT
DTSTART;TZID=Europe/London:20180118T180000
DTEND;TZID=Europe/London:20180118T210000
DTSTAMP:20260422T095538
CREATED:20171026T203701Z
LAST-MODIFIED:20171026T203716Z
UID:429-1516298400-1516309200@blackcountrywoodturners.org.uk
SUMMARY:Demo: Jacqui and Melvyn Adams
DESCRIPTION:Melvyn is one of our club members and according to him\, his wife Jacqui really has got a very good grip on doing pyrography\, so this will be the subject of this evening’s demo.
URL:http://blackcountrywoodturners.org.uk/event/demo-jacqui-and-melvyn-adams/
LOCATION:The Broadway Campus\, The Broadway\, Dudley\, West Midlands\, DY1 4AS\, United Kingdom
CATEGORIES:Monthly Meeting
END:VEVENT
BEGIN:VEVENT
DTSTART;TZID=Europe/London:20171207T180000
DTEND;TZID=Europe/London:20171207T210000
DTSTAMP:20260422T095538
CREATED:20171005T190649Z
LAST-MODIFIED:20171005T190649Z
UID:413-1512669600-1512680400@blackcountrywoodturners.org.uk
SUMMARY:Hands-On
DESCRIPTION:Our final meeting in the year will be hands-on evening\, also at the new site at the Broadway campus of the Dudley College. There is currently no fixed subject for this meeting\, so just bring along your tools and wood\, and let’s have an enjoyable time of discussing\, practicing\, learning.
URL:http://blackcountrywoodturners.org.uk/event/hands-on-4/
LOCATION:The Broadway Campus\, The Broadway\, Dudley\, West Midlands\, DY1 4AS\, United Kingdom
CATEGORIES:Monthly Meeting
END:VEVENT
BEGIN:VEVENT
DTSTART;TZID=Europe/London:20171116T180000
DTEND;TZID=Europe/London:20171116T210000
DTSTAMP:20260422T095538
CREATED:20171005T190429Z
LAST-MODIFIED:20171005T190429Z
UID:411-1510855200-1510866000@blackcountrywoodturners.org.uk
SUMMARY:AGM and Christmas Social
DESCRIPTION:On this evening we will conduct our annual general meeting\, with all the usual reports from the committee\, and afterwards have our Christmas Social. Visitors are welcome\, but it will probably be a rather boring evening for them\, as during the AGM all they can do is listen. This will be our first meeting at the Broadway campus of the Dudley College.
URL:http://blackcountrywoodturners.org.uk/event/agm-and-christmas-social/
LOCATION:The Broadway Campus\, The Broadway\, Dudley\, West Midlands\, DY1 4AS\, United Kingdom
CATEGORIES:Monthly Meeting
END:VEVENT
BEGIN:VEVENT
DTSTART;TZID=Europe/London:20171019T190000
DTEND;TZID=Europe/London:20171019T220000
DTSTAMP:20260422T095538
CREATED:20161005T201649Z
LAST-MODIFIED:20161005T201649Z
UID:204-1508439600-1508450400@blackcountrywoodturners.org.uk
SUMMARY:Demo: Sally Burnett
DESCRIPTION:Subject TBA. \nMany club members will remember Sally from her demo in 2016\, where she showed us many different techniques to apply texture to a turned item.
URL:http://blackcountrywoodturners.org.uk/event/demo-sally-burnett/
LOCATION:West Midlands
CATEGORIES:Monthly Meeting
END:VEVENT
BEGIN:VEVENT
DTSTART;TZID=Europe/London:20170921T190000
DTEND;TZID=Europe/London:20170921T220000
DTSTAMP:20260422T095538
CREATED:20161005T201452Z
LAST-MODIFIED:20161005T201452Z
UID:202-1506020400-1506031200@blackcountrywoodturners.org.uk
SUMMARY:Demo: Robin Barlow
DESCRIPTION:Subject TBA. \nThis may well be the first meeting at a new venue\, as Dudley College will have to vacate the site at Mons Hill\, and most likely after the summer break we will have to be somewhere else. Details will be published as soon as they are available.
URL:http://blackcountrywoodturners.org.uk/event/demo-robin-barlow/
LOCATION:West Midlands
CATEGORIES:Monthly Meeting
END:VEVENT
BEGIN:VEVENT
DTSTART;TZID=Europe/London:20170720T190000
DTEND;TZID=Europe/London:20170720T220000
DTSTAMP:20260422T095538
CREATED:20161005T201242Z
LAST-MODIFIED:20161005T201242Z
UID:200-1500577200-1500588000@blackcountrywoodturners.org.uk
SUMMARY:Hands-On
DESCRIPTION:Our normal hands-on meeting. No particular subject\, just bring your tools and have some fun.
URL:http://blackcountrywoodturners.org.uk/event/hands-on-3/
LOCATION:West Midlands
CATEGORIES:Monthly Meeting
END:VEVENT
BEGIN:VEVENT
DTSTART;TZID=Europe/London:20170615T190000
DTEND;TZID=Europe/London:20170615T220000
DTSTAMP:20260422T095538
CREATED:20161005T200934Z
LAST-MODIFIED:20161005T200934Z
UID:198-1497553200-1497564000@blackcountrywoodturners.org.uk
SUMMARY:Demo: Wolfgang
DESCRIPTION:Club member Wolfgang Schulze-Zachau will do some simple turnings (tealight holders\, bud vases\, etc.) and the evening will focus on colouring\, texturing and finishing.
URL:http://blackcountrywoodturners.org.uk/event/demo-wolfgang/
LOCATION:West Midlands
CATEGORIES:Monthly Meeting
END:VEVENT
BEGIN:VEVENT
DTSTART;TZID=Europe/London:20170518T190000
DTEND;TZID=Europe/London:20170518T220000
DTSTAMP:20260422T095538
CREATED:20161005T200657Z
LAST-MODIFIED:20161005T200657Z
UID:196-1495134000-1495144800@blackcountrywoodturners.org.uk
SUMMARY:Hands-On
DESCRIPTION:Our normal hands-on meeting. No particular subject\, just bring your tools and have some fun.
URL:http://blackcountrywoodturners.org.uk/event/hands-on-2/
LOCATION:West Midlands
CATEGORIES:Monthly Meeting
END:VEVENT
BEGIN:VEVENT
DTSTART;TZID=Europe/London:20170420T190000
DTEND;TZID=Europe/London:20170420T220000
DTSTAMP:20260422T095538
CREATED:20161005T200504Z
LAST-MODIFIED:20170418T153351Z
UID:194-1492714800-1492725600@blackcountrywoodturners.org.uk
SUMMARY:Demo: Michael Taylor
DESCRIPTION:On this evening\, Michael will talk about woodland management and demonstrate a pole-lathe.
URL:http://blackcountrywoodturners.org.uk/event/demo-dawn-hopley-ii/
LOCATION:West Midlands
CATEGORIES:Monthly Meeting
END:VEVENT
BEGIN:VEVENT
DTSTART;TZID=Europe/London:20170316T180000
DTEND;TZID=Europe/London:20170316T210000
DTSTAMP:20260422T095538
CREATED:20161005T200335Z
LAST-MODIFIED:20161005T201812Z
UID:192-1489687200-1489698000@blackcountrywoodturners.org.uk
SUMMARY:Demo: Dawn Hopley (I)
DESCRIPTION:This is part one of a two part demo by Dawn\, showing us how to work with pine and with gold leaf. Many club members will remember Dawn from her demo in 2016\, showing how to make little perfume bottles and other containers from small sized branch wood.
URL:http://blackcountrywoodturners.org.uk/event/demo-dawn-hopley-i/
LOCATION:West Midlands
CATEGORIES:Monthly Meeting
END:VEVENT
BEGIN:VEVENT
DTSTART;TZID=Europe/London:20170216T180000
DTEND;TZID=Europe/London:20170216T210000
DTSTAMP:20260422T095538
CREATED:20161005T200018Z
LAST-MODIFIED:20161121T145407Z
UID:190-1487268000-1487278800@blackcountrywoodturners.org.uk
SUMMARY:Hands-On
DESCRIPTION:Our normal club meeting\, with lathes out and all action. Mick Littlehales will give some guidance for new members on how to turn platters.
URL:http://blackcountrywoodturners.org.uk/event/hands-on/
LOCATION:West Midlands
CATEGORIES:Monthly Meeting
END:VEVENT
BEGIN:VEVENT
DTSTART;TZID=Europe/London:20170119T180000
DTEND;TZID=Europe/London:20170119T210000
DTSTAMP:20260422T095538
CREATED:20161005T195822Z
LAST-MODIFIED:20161005T195822Z
UID:188-1484848800-1484859600@blackcountrywoodturners.org.uk
SUMMARY:Demo : Robert Till
DESCRIPTION:Subject TBA.
URL:http://blackcountrywoodturners.org.uk/event/demo-robert-till/
LOCATION:West Midlands
CATEGORIES:Monthly Meeting
END:VEVENT
BEGIN:VEVENT
DTSTART;TZID=Europe/London:20161208T180000
DTEND;TZID=Europe/London:20161208T210000
DTSTAMP:20260422T095538
CREATED:20160518T175445Z
LAST-MODIFIED:20160518T175445Z
UID:159-1481220000-1481230800@blackcountrywoodturners.org.uk
SUMMARY:Meeting: Club Social
DESCRIPTION:This is our Christmas Social meeting\, so everybody please bring some cakes\, cookies\, whatever you fancy\, and let’s have some good time together.
URL:http://blackcountrywoodturners.org.uk/event/meeting-club-social/
LOCATION:West Midlands
CATEGORIES:Monthly Meeting
END:VEVENT
BEGIN:VEVENT
DTSTART;TZID=Europe/London:20161117T190000
DTEND;TZID=Europe/London:20161117T210000
DTSTAMP:20260422T095538
CREATED:20160516T173432Z
LAST-MODIFIED:20160516T173506Z
UID:158-1479409200-1479416400@blackcountrywoodturners.org.uk
SUMMARY:Meeting: AGM
DESCRIPTION:
URL:http://blackcountrywoodturners.org.uk/event/meeting-agm/
LOCATION:West Midlands
CATEGORIES:Monthly Meeting
END:VEVENT
BEGIN:VEVENT
DTSTART;TZID=Europe/London:20160818T190000
DTEND;TZID=Europe/London:20160818T220000
DTSTAMP:20260422T095538
CREATED:20160519T204444Z
LAST-MODIFIED:20160519T204444Z
UID:160-1471546800-1471557600@blackcountrywoodturners.org.uk
SUMMARY:Meeting: Summer Break
DESCRIPTION:There is no meeting in August\, as the college is closed and therefore we have no facility available to us.
URL:http://blackcountrywoodturners.org.uk/event/meeting-summer-break/
LOCATION:West Midlands
CATEGORIES:Monthly Meeting
END:VEVENT
BEGIN:VEVENT
DTSTART;TZID=Europe/London:20160616T190000
DTEND;TZID=Europe/London:20160616T220000
DTSTAMP:20260422T095538
CREATED:20151212T165801Z
LAST-MODIFIED:20160220T100846Z
UID:36-1466103600-1466114400@blackcountrywoodturners.org.uk
SUMMARY:Demo: Sally Burnett
DESCRIPTION:Sally will turn a platter and then texture it using “kitchen implements”.
URL:http://blackcountrywoodturners.org.uk/event/demo-tba/
LOCATION:West Midlands
CATEGORIES:Monthly Meeting
END:VEVENT
BEGIN:VEVENT
DTSTART;TZID=Europe/London:20160519T190000
DTEND;TZID=Europe/London:20160519T220000
DTSTAMP:20260422T095538
CREATED:20151212T165655Z
LAST-MODIFIED:20160220T101023Z
UID:35-1463684400-1463695200@blackcountrywoodturners.org.uk
SUMMARY:Hands-On: Workshop Safety
DESCRIPTION:A normal hands-on meeting with all lathes in operation. In addition\, John Gough will give us a 30 minute presentation on Workshop Electrics and Safety.
URL:http://blackcountrywoodturners.org.uk/event/hands-on-tba/
LOCATION:West Midlands
CATEGORIES:Monthly Meeting
END:VEVENT
BEGIN:VEVENT
DTSTART;TZID=Europe/London:20160421T190000
DTEND;TZID=Europe/London:20160421T220000
DTSTAMP:20260422T095538
CREATED:20151212T165540Z
LAST-MODIFIED:20151212T165549Z
UID:34-1461265200-1461276000@blackcountrywoodturners.org.uk
SUMMARY:Demo: Paul Bellamy
DESCRIPTION:
URL:http://blackcountrywoodturners.org.uk/event/demo-paul-bellamy/
LOCATION:West Midlands
CATEGORIES:Monthly Meeting
END:VEVENT
BEGIN:VEVENT
DTSTART;TZID=Europe/London:20160317T180000
DTEND;TZID=Europe/London:20160317T210000
DTSTAMP:20260422T095538
CREATED:20151212T165445Z
LAST-MODIFIED:20151216T202628Z
UID:33-1458237600-1458248400@blackcountrywoodturners.org.uk
SUMMARY:Demo: Bob Mercer
DESCRIPTION:
URL:http://blackcountrywoodturners.org.uk/event/demo-bob-mercer/
LOCATION:West Midlands
CATEGORIES:Monthly Meeting
END:VEVENT
END:VCALENDAR